BEGIN:VCALENDAR
VERSION:2.0
PRODID:-//ChamberMaster//Event Calendar 2.0//EN
METHOD:PUBLISH
X-PUBLISHED-TTL:P3D
REFRESH-INTERVAL:P3D
CALSCALE:GREGORIAN
BEGIN:VEVENT
DTSTART:20140808T230000Z
DTEND:20140809T010000Z
X-MICROSOFT-CDO-ALLDAYEVENT:FALSE
SUMMARY:Sargent by the Sea Fundraiser Party
DESCRIPTION:Barbara Silberman\n							978-281-5801\n							215-370-1142 (cell)\n							barbsilberman@gmail.com\n\n\n							FOR IMMEDIATE RELEASE\n\n\nSARGENT HOUSE MUSEUM HOSTS PRIVATEERING EVENT\nFeaturing Nautical Dress\, Caribbean Foodstuffs\, Rum Punch and Silent Auction\n\nOn Friday\, August 8\, 2014\, the Sargent House will host its annual Sargent by the Sea fundraiser\, newly inspired this year by Gloucester's privateering past.  The event begins at 7P and tickets are $65 in advance at www.sargenthouse.org or $75 at the door.  Tickets are limited.  The event will benefit the educational programs and preservation of the Sargent House Museum.  \n\nThis year's event will feature Caribbean delights catered by Giuseppe's Ristorante paired with Ryan and Wood Distilleries' famous rum punch. Owners Bob and Kathy Ryan will provide information on the rum-making process.  Peter Souza's renowned vocal group ‘Three Sheets to the Wind' will offer rousing sea chanteys.  Coveted raffle items will include a sail on a private schooner\, a private high tea at Sargent House\, and a nautically-themed bag filled with seaside goodies.  \n\nThe event is inspired by the work of Judith Sargent Murray's husband\, Captain John Stevens\, who was a privateer during the American Revolution.  Privateering was authorized by the Continental Congress during the War\, and American patriots were encouraged to legally seize British ships and goods.  Judith was concerned about her husband's safety and supportive of his patriotic activities.  Privateering was in part responsible for the wealth needed to build the Sargent House.   A cautious Judith remarked to a friend\, ''Mr. Stevens made many distressing voyages…until at length fortune\, as if weary of persecuting…gave him a share in an agency for an armed vessel fitted out by some friends.--This was an unexpected source of wealth\, and it more than answered our most sanguine hopes.'' \n\nThe mission of the Sargent House Museum is to promote the work\, lif
X-ALT-DESC;FMTTYPE=text/html:									\n							Barbara Silberman\n							978-281-5801\n							215-370-1142 (cell)\n							barbsilberman@gmail.com\n\n\n							FOR IMMEDIATE RELEASE\n\n\nSARGENT HOUSE MUSEUM HOSTS PRIVATEERING EVENT\nFeaturing Nautical Dress\, Caribbean Foodstuffs\, Rum Punch and Silent Auction\n\nOn Friday\, August 8\, 2014\, the Sargent House will host its annual Sargent by the Sea fundraiser\, newly inspired this year by Gloucester's privateering past.  The event begins at 7P and tickets are $65 in advance at www.sargenthouse.org or $75 at the door.  Tickets are limited.  The event will benefit the educational programs and preservation of the Sargent House Museum.  \n\nThis year's event will feature Caribbean delights catered by Giuseppe's Ristorante paired with Ryan and Wood Distilleries' famous rum punch. Owners Bob and Kathy Ryan will provide information on the rum-making process.  Peter Souza's renowned vocal group ‘Three Sheets to the Wind' will offer rousing sea chanteys.  Coveted raffle items will include a sail on a private schooner\, a private high tea at Sargent House\, and a nautically-themed bag filled with seaside goodies.  \n\nThe event is inspired by the work of Judith Sargent Murray's husband\, Captain John Stevens\, who was a privateer during the American Revolution.  Privateering was authorized by the Continental Congress during the War\, and American patriots were encouraged to legally seize British ships and goods.  Judith was concerned about her husband's safety and supportive of his patriotic activities.  Privateering was in part responsible for the wealth needed to build the Sargent House.   A cautious Judith remarked to a friend\, ''Mr. Stevens made many distressing voyages…until at length fortune\, as if weary of persecuting…gave him a share in an agency for an armed vessel fitted out by some friends.--This was an unexpected source of wealth\, and it more than answered our most sanguine hopes.'' \n\nThe mission of the Sargent House Museum is to promote the work\, lif
LOCATION:25 Quarry Street\, Gloucester\, Ma 01930 Parking: There is metered parking on Main and Middle Streets. Please note that Middle Street is one-way in two different directions. The best way to access the Middle Street entrance is to make a right turn from Main Street onto Center Street and then make a left turn onto Middle Street. The Museum is the yellow house on the left. Handicapped Parking: There is one handicapped-parking space at 49 Middle St. The handicapped entrance to the Museum is the large green door on the left side of the house.
UID:e.2981.1436
SEQUENCE:3
DTSTAMP:20260419T144456Z
URL:https://visit.rockportusa.com/events/details/sargent-by-the-sea-fundraiser-party-08-08-2014-1436
END:VEVENT

END:VCALENDAR
