BEGIN:VCALENDAR
VERSION:2.0
PRODID:-//ChamberMaster//Event Calendar 2.0//EN
METHOD:PUBLISH
X-PUBLISHED-TTL:P3D
REFRESH-INTERVAL:P3D
CALSCALE:GREGORIAN
BEGIN:VEVENT
DTSTART:20140817T210000Z
DTEND:20140817T220000Z
X-MICROSOFT-CDO-ALLDAYEVENT:FALSE
SUMMARY:Ruth Mordecai To Hold Discussion at Trident Gallery
DESCRIPTION:Ruth Mordecai will be at Trident Gallery on Sunday\, August 17th\, from 5-6pm to lead a discussion of her work.
X-ALT-DESC;FMTTYPE=text/html:Ruth Mordecai will be at Trident Gallery on Sunday\, August 17th\, from 5-6pm to lead a discussion of her work. 
LOCATION:189 Main Street\, Gloucester\, MA 01930 Trident Gallery is in downtown Gloucester\, Massachusetts\, on Main Street at the corner of Duncan Street (which becomes Pleasant Street as it crosses Main).
UID:e.2981.1442
SEQUENCE:3
DTSTAMP:20260419T144348Z
URL:https://visit.rockportusa.com/events/details/ruth-mordecai-to-hold-discussion-at-trident-gallery-08-17-2014-1442
END:VEVENT

END:VCALENDAR
