BEGIN:VCALENDAR
VERSION:2.0
PRODID:-//ChamberMaster//Event Calendar 2.0//EN
METHOD:PUBLISH
X-PUBLISHED-TTL:P3D
REFRESH-INTERVAL:P3D
CALSCALE:GREGORIAN
BEGIN:VEVENT
DTSTART:20131129T220000Z
DTEND:20131130T000000Z
X-MICROSOFT-CDO-ALLDAYEVENT:FALSE
SUMMARY:Rocky Neck Holiday Art & Fine Crafts Festival Preview Party
DESCRIPTION:Special invitation for fellow Chamber members to attend our Gala First Choice Preview Party\, Friday\, November 29 from 5-7:00 PM and the \nRocky Neck Holiday Art & Fine Crafts Festival \nat The Cultural Center at Rocky Neck\, 6 Wonson Street \nSaturdays and Sundays\, Noon-4 PM\nNovember 30 - December 29\n\nFriday\, November 29\, 5-7 PM Gala First Choice Preview Party\n(Don't miss the Preview Party for first choice of a beautiful selection of jewelry\, pottery\, wearable & functional art\, books\, calendars\, cards\, photographs\, paintings & more.)  Refreshments & free admission.\nJoin the fun while shopping locally\nSaturday\, December 7\, 2-4 PM High Tea\nSunday\, December 15\, 3-5 PM Happy Hour\nSaturday\, December 21\, 2-4 PM Winter Solstice Party\nSunday\, December 29\, 2-4 PM Pre New Year's Party\nExhibits by:\nKathleen Gerdon Archer\, Donna Ardizzoni\, Katherine Bagley\, belle + me (Lisa LeVasseur & Anne Malvaux)\, Kristie Bernard\, Stevie Black\, Judith Bly\, Pauline \nBresnahan\, Beth Buckingham\, Len Burgess\, Alice Gardner\, Nina Goodick\, Deborah Geurtze\, Susan Hershey\, Susan Johnson\, Jane Keddy\, EJ Lefavour\, \nBrenda Malloy\, Mary McCarl\, Carol McKenna\, Adriana ''Gigi'' Mederos\, Jen Moltoni\, Tom Nihan\, Sinikka Nogelo\, Michael Oleksiw\, Eileen Patten Oliver\, \nRegina Piantedosi\, Jenny Rangan\, Ramani Rangan\, Tom Robinson-Cox\, Judy Robinson-Cox\, Deb Schradieck\, Janet Souza\, Martha Swanson\, Theresa \nTestaverde\, Karen Tibbetts\, Anna Vojtech\, Jan Walker\, Deborah Way\, Chris Williams\, Seyrel Williams\, Ruth Worrall\, Heidi Caswell Zander
X-ALT-DESC;FMTTYPE=text/html:Special invitation for fellow Chamber members to attend our Gala First Choice Preview Party\, Friday\, November 29 from 5-7:00 PM and the \nRocky Neck Holiday Art & Fine Crafts Festival \nat The Cultural Center at Rocky Neck\, 6 Wonson Street \nSaturdays and Sundays\, Noon-4 PM\nNovember 30 - December 29\n\nFriday\, November 29\, 5-7 PM Gala First Choice Preview Party\n(Don't miss the Preview Party for first choice of a beautiful selection of jewelry\, pottery\, wearable & functional art\, books\, calendars\, cards\, photographs\, paintings & more.)  Refreshments & free admission.\nJoin the fun while shopping locally\nSaturday\, December 7\, 2-4 PM High Tea\nSunday\, December 15\, 3-5 PM Happy Hour\nSaturday\, December 21\, 2-4 PM Winter Solstice Party\nSunday\, December 29\, 2-4 PM Pre New Year's Party\nExhibits by:\nKathleen Gerdon Archer\, Donna Ardizzoni\, Katherine Bagley\, belle + me (Lisa LeVasseur & Anne Malvaux)\, Kristie Bernard\, Stevie Black\, Judith Bly\, Pauline \nBresnahan\, Beth Buckingham\, Len Burgess\, Alice Gardner\, Nina Goodick\, Deborah Geurtze\, Susan Hershey\, Susan Johnson\, Jane Keddy\, EJ Lefavour\, \nBrenda Malloy\, Mary McCarl\, Carol McKenna\, Adriana ''Gigi'' Mederos\, Jen Moltoni\, Tom Nihan\, Sinikka Nogelo\, Michael Oleksiw\, Eileen Patten Oliver\, \nRegina Piantedosi\, Jenny Rangan\, Ramani Rangan\, Tom Robinson-Cox\, Judy Robinson-Cox\, Deb Schradieck\, Janet Souza\, Martha Swanson\, Theresa \nTestaverde\, Karen Tibbetts\, Anna Vojtech\, Jan Walker\, Deborah Way\, Chris Williams\, Seyrel Williams\, Ruth Worrall\, Heidi Caswell Zander \n\n\n\n\n\n
LOCATION:The Cultural Center at Rocky Neck\, Gloucester\, MA 01930 The Cultural Center at Rocky Neck (in what used to be the Christian Science Church) is located at 6 Wonson Street on Rocky Neck in East Gloucester. There is plenty of free parking in the public lot at the beginning of Rocky Neck Ave. (a short walk to the Center)\, as well as street parking on Rocky Neck Ave. and Wonson Street.
UID:e.2981.1138
SEQUENCE:3
DTSTAMP:20260420T041525Z
URL:https://visit.rockportusa.com/events/details/rocky-neck-holiday-art-fine-crafts-festival-preview-party-11-29-2013-1138
END:VEVENT

END:VCALENDAR
