BEGIN:VCALENDAR
VERSION:2.0
PRODID:-//ChamberMaster//Event Calendar 2.0//EN
METHOD:PUBLISH
X-PUBLISHED-TTL:P3D
REFRESH-INTERVAL:P3D
CALSCALE:GREGORIAN
BEGIN:VEVENT
DTSTART:20131013T150000Z
DTEND:20131013T190000Z
X-MICROSOFT-CDO-ALLDAYEVENT:FALSE
SUMMARY:Rockport Fall Classic Car Show and Cruise Day
DESCRIPTION:Rockport Fall Classic Car Show and Cruise Day\nSunday October 13th\, rain date October 27th\n9am Registration and Staging ($5 to register your car)\n11am-2pm Car Show\, Entertainment\, Food\n2pm Awards Ceremony and Raffles\n2:30pm Classic Car Parade through Rockport\n\nAdmission is FREE\, $5 to show your car\nBlue Gate Meadow Park n Ride Lot\nBlue Gate Lane\, Rockport MA 01966\n978-290-3184 or info@bearskinneck.net for more details.
X-ALT-DESC;FMTTYPE=text/html:Rockport Fall Classic Car Show and Cruise Day\nSunday October 13th\, rain date October 27th\n9am Registration and Staging ($5 to register your car)\n11am-2pm Car Show\, Entertainment\, Food\n2pm Awards Ceremony and Raffles\n2:30pm Classic Car Parade through Rockport\n\nAdmission is FREE\, $5 to show your car\nBlue Gate Meadow Park n Ride Lot\nBlue Gate Lane\, Rockport MA 01966\n978-290-3184 or info@bearskinneck.net for more details.
LOCATION:Blue Gate Meadow Lane\, Rockport\, MA 01966 Blue Gate Meadow Park n Ride Lot Blue Gate Meadow Lane Rockport MA 01966
UID:e.2981.1131
SEQUENCE:3
DTSTAMP:20260420T055210Z
URL:https://visit.rockportusa.com/events/details/rockport-fall-classic-car-show-and-cruise-day-10-13-2013-1131
END:VEVENT

END:VCALENDAR
