BEGIN:VCALENDAR
VERSION:2.0
PRODID:-//ChamberMaster//Event Calendar 2.0//EN
METHOD:PUBLISH
X-PUBLISHED-TTL:P3D
REFRESH-INTERVAL:P3D
CALSCALE:GREGORIAN
BEGIN:VEVENT
DTSTART:20250626T233000Z
DTEND:20250627T013000Z
X-MICROSOFT-CDO-ALLDAYEVENT:FALSE
SUMMARY:Rockport Chamber Music Festival: Mozart & Brahms
DESCRIPTION:Four chamber music virtuosos Paul Huang\, hailed as "one of those rare artists who casts a spell" (Violinist.com)\, Alessio Bax\, praised as "clearly among the most remarkable young pianists now before the public" (Gramophone) and Nicholas Cannelakis\, described as "the superb young soloist" (The New Yorker) and Artistic Director and violist Barry Shiffman come together for an evening of masterworks by Mozart\, Grieg and Brahms.\n\nPROGRAM\n\nMOZART: Piano Quartet in E-flat major\, K.493\n\nGRIEG: Violin Sonata No. 3\, Op. 45\n\nINTERMISSION\n\nBRAHMS: Piano Trio No. 1 in B Major\, Op. 8
X-ALT-DESC;FMTTYPE=text/html:<p>Four chamber music virtuosos&mdash\;Paul Huang\, hailed as &ldquo\;one of those rare artists who casts a spell&rdquo\; (<em>Violinist.com</em>)\, Alessio Bax\, praised as &ldquo\;clearly among the most remarkable young pianists now before the public&rdquo\; (<em>Gramophone</em>) and Nicholas Cannelakis\, described as &ldquo\;the superb young soloist&rdquo\; (<em>The New Yorker</em>) and Artistic Director and violist Barry Shiffman come together for an evening of masterworks by Mozart\, Grieg and Brahms.</p>\n\n<h4>PROGRAM</h4>\n\n<p>MOZART: Piano Quartet in E-flat major\, K.493<br />\nGRIEG: Violin Sonata No. 3\, Op. 45<br />\n<em>INTERMISSION</em><br />\nBRAHMS: Piano Trio No. 1 in B Major\, Op. 8</p>\n
LOCATION:37 Main St\, Rockport\, MA 01966
UID:e.2981.36732
SEQUENCE:3
DTSTAMP:20260426T040731Z
URL:https://visit.rockportusa.com/events/details/rockport-chamber-music-festival-mozart-brahms-36732
END:VEVENT

END:VCALENDAR
