BEGIN:VCALENDAR
VERSION:2.0
PRODID:-//ChamberMaster//Event Calendar 2.0//EN
METHOD:PUBLISH
X-PUBLISHED-TTL:P3D
REFRESH-INTERVAL:P3D
CALSCALE:GREGORIAN
BEGIN:VEVENT
DTSTART:20250619T233000Z
DTEND:20250620T013000Z
X-MICROSOFT-CDO-ALLDAYEVENT:FALSE
SUMMARY:Rockport Chamber Music Festival: Isidore Quartet & Steven Banks
DESCRIPTION:The Isidore Quartet\, recipient of a 2023 Avery Fisher Career Grant and winner of the 2022 Banff International String Quartet Competition\, joins forces with saxophonist Steven Banks\, a 2022 Avery Fisher Career Grant winner. Their program features Ravel's String Quartet in F Major\, Beethoven's String Quartet No. 12\, Op. 127 and Banks's own Quintet for Saxophone and String Quartet.\n\nPROGRAM\n\nRAVEL: String Quartet in F Major\n\nSTEVEN BANKS: Reflections and Exaltations (Quintet for saxophone & string quartet)\n\nIntermission\n\nBEETHOVEN: String Quartet No. 12 in E-flat Major\, Op. 127\n\n\nABOUT ISIDORE QUARTET\n\nWinners of a 2023 Avery Fisher Career Grant\, and the 14th Banff International String Quartet Competition in 2022\, the New York City-based Isidore String Quartet was formed in 2019 with a vision to revisit\, rediscover\, and reinvigorate the repertory.  The quartet is heavily influenced by the Juilliard String Quartet and the idea of 'approaching the established as if it were brand new\, and the new as if it were firmly established.'
X-ALT-DESC;FMTTYPE=text/html:<p>The Isidore Quartet\, recipient of a 2023 Avery Fisher Career Grant and winner of the 2022 Banff International String Quartet Competition\, joins forces with saxophonist Steven Banks\, a 2022 Avery Fisher Career Grant winner. Their program features Ravel&rsquo\;s String Quartet in F Major\, Beethoven&rsquo\;s String Quartet No. 12\, Op. 127 and Banks&rsquo\;s own Quintet for Saxophone and String Quartet.</p>\n\n<h4>PROGRAM</h4>\n\n<p>RAVEL: String Quartet in F Major<br />\nSTEVEN BANKS:&nbsp\;<em>Reflections and Exaltations (</em>Quintet for saxophone &amp\; string quartet)<br />\n<em>Intermission</em><br />\nBEETHOVEN: String Quartet No. 12 in E-flat Major\, Op. 127</p>\n\n<div>\n<h4>ABOUT ISIDORE QUARTET</h4>\n\n<p>Winners of a 2023 Avery Fisher Career Grant\, and the 14th Banff International String Quartet Competition in 2022\, the New York City-based Isidore String Quartet was formed in 2019 with a vision to revisit\, rediscover\, and reinvigorate the repertory.&nbsp\; The quartet is heavily influenced by the Juilliard String Quartet and the idea of &lsquo\;approaching the established as if it were brand new\, and the new as if it were firmly established.&rsquo\;</p>\n</div>\n
LOCATION:37 Main St\, Rockport\, MA 01966
UID:e.2981.36724
SEQUENCE:3
DTSTAMP:20260426T040742Z
URL:https://visit.rockportusa.com/events/details/rockport-chamber-music-festival-isidore-quartet-steven-banks-36724
END:VEVENT

END:VCALENDAR
