BEGIN:VCALENDAR
VERSION:2.0
PRODID:-//ChamberMaster//Event Calendar 2.0//EN
METHOD:PUBLISH
X-PUBLISHED-TTL:P3D
REFRESH-INTERVAL:P3D
CALSCALE:GREGORIAN
BEGIN:VEVENT
DTSTART:20250627T233000Z
DTEND:20250628T013000Z
X-MICROSOFT-CDO-ALLDAYEVENT:FALSE
SUMMARY:Rockport Chamber Music Festival: Imani Winds & Andy Akiho
DESCRIPTION:2024 GRAMMY winner Imani Winds joins forces with Pulitzer Prize finalist Andy Akiho for an innovative program featuring works by D'Rivera\, Villa-Lobos and Akiho. Hailed as "strikingly virtuosic\, immaculately tight\, [and] stylistically agile" (Boston Musical Intelligencer)\, Imani Winds brings exceptional artistry to this compelling collaboration.\n\nPROGRAM\n\nD'RIVERA: Kites (arr. Valerie Coleman)\n\nAKIHO: The Synesthisia Suite\n\nVILLA-LOBOS: Quinteto em forma de choros\, W.231\n\nAKIHO: BeLoud\, Beloved\, BeLonging
X-ALT-DESC;FMTTYPE=text/html:<p>2024 GRAMMY winner Imani Winds joins forces with Pulitzer Prize finalist Andy Akiho for an innovative program featuring works by D&rsquo\;Rivera\, Villa-Lobos and Akiho. Hailed as &ldquo\;strikingly virtuosic\, immaculately tight\, [and] stylistically agile&rdquo\; (<em>Boston Musical Intelligencer</em>)\, Imani Winds brings exceptional artistry to this compelling collaboration.</p>\n\n<h4>PROGRAM</h4>\n\n<p>D&rsquo\;RIVERA: Kites (arr. Valerie Coleman)<br />\nAKIHO: The Synesthisia Suite<br />\nVILLA-LOBOS: Quinteto em forma de choros\, W.231<br />\nAKIHO: BeLoud\, Beloved\, BeLonging</p>\n
LOCATION:37 Main St\, Rockport\, MA 01966
UID:e.2981.36733
SEQUENCE:3
DTSTAMP:20260426T040742Z
URL:https://visit.rockportusa.com/events/details/rockport-chamber-music-festival-imani-winds-andy-akiho-36733
END:VEVENT

END:VCALENDAR
