BEGIN:VCALENDAR
VERSION:2.0
PRODID:-//ChamberMaster//Event Calendar 2.0//EN
METHOD:PUBLISH
X-PUBLISHED-TTL:P3D
REFRESH-INTERVAL:P3D
CALSCALE:GREGORIAN
BEGIN:VEVENT
DTSTART:20250621T150000Z
DTEND:20250621T170000Z
X-MICROSOFT-CDO-ALLDAYEVENT:FALSE
SUMMARY:Rockport Chamber Music Festival: Family Concert - Once Upon a Time
DESCRIPTION:Enjoy a fun-filled performance that explores how music can tell a story\, paint a picture\, and express the entire spectrum of human emotions. You'll hear the cello and piano come alive as animals and movie characters\, as well as discover sounds that you may have never heard before from these two instruments. Don't miss this interactive concert that will unlock the imaginations of children and adults.
X-ALT-DESC;FMTTYPE=text/html:<p>Enjoy a fun-filled performance that explores how music can tell a story\, paint a picture\, and express the entire spectrum of human emotions. You&rsquo\;ll hear the cello and piano come alive as animals&nbsp\;and movie characters\, as well as discover sounds that you may have never heard before from these two instruments. Don&rsquo\;t miss this interactive concert that will unlock the imaginations of children and adults.</p>\n
LOCATION:37 Main St\, Rockport\, MA 01966
UID:e.2981.36727
SEQUENCE:3
DTSTAMP:20260426T040859Z
URL:https://visit.rockportusa.com/events/details/rockport-chamber-music-festival-family-concert-once-upon-a-time-36727
END:VEVENT

END:VCALENDAR
