BEGIN:VCALENDAR
VERSION:2.0
PRODID:-//ChamberMaster//Event Calendar 2.0//EN
METHOD:PUBLISH
X-PUBLISHED-TTL:P3D
REFRESH-INTERVAL:P3D
CALSCALE:GREGORIAN
BEGIN:VEVENT
DTSTART:20250615T210000Z
DTEND:20250615T230000Z
X-MICROSOFT-CDO-ALLDAYEVENT:FALSE
SUMMARY:Rockport Chamber Music Festival: Dover Quartet & Roberto Diaz\, viola
DESCRIPTION:Named one of the greatest string quartets of the last 100 years by BBC Music Magazine\, the two-time GRAMMY-nominated Dover Quartet has earned acclaim for its extraordinary artistry. Joined by violist Roberto D az\, the program features Schumann's Quartet in A minor\, Tchaikovsky's Quartet No. 1 and Brahms's String Quintet.\n\nPROGRAM\n\nSCHUMANN: Quartet in A minor\, Op. 41\, No. 1\n\nTCHAIKOVSKY: Quartet No. 1 in D major\, Op. 11\n\nIntermission\n\nBRAHMS: String Quintet No. 2 in G major\, Op. 111\n\n\nABOUT THE DOVER QUARTET\n\nJoel Link\, violin | Bryan Lee\, violin | Julianne Lee\, viola | Camden Shaw\, cello\n\nNamed one of the greatest string quartets of the last 100 years by BBC Music Magazine and "the next Guarneri Quartet" by the Chicago Tribune\, the two-time GRAMMY-nominated Dover Quartet is one of the world's most in-demand chamber ensembles. The group's awards include a stunning sweep of all prizes at the 2013 Banff International String Quartet Competition\, grand and first prizes at the Fischoff Chamber Music Competition\, and prizes at the Wigmore Hall International String Quartet Competition. Its honors include the prestigious Avery Fisher Career Grant\, Chamber Music America's Cleveland Quartet Award\, and Lincoln Center's Hunt Family Award. The Dover Quartet is the Penelope P. Watkins Ensemble in Residence at the Curtis Institute of Music and Quartet in Residence at Northwestern University's Bienen School of Music.
X-ALT-DESC;FMTTYPE=text/html:<p>Named one of the greatest string quartets of the last 100 years by&nbsp\;<em>BBC Music Magazine</em>\, the two-time GRAMMY-nominated Dover Quartet has earned acclaim for its extraordinary artistry. Joined by violist Roberto D&iacute\;az\, the program features Schumann&rsquo\;s Quartet in A minor\, Tchaikovsky&rsquo\;s Quartet No. 1 and Brahms&rsquo\;s String Quintet.</p>\n\n<h4>PROGRAM</h4>\n\n<p>SCHUMANN: Quartet in A minor\, Op. 41\, No. 1<br />\nTCHAIKOVSKY: Quartet No. 1 in D major\, Op. 11<br />\n<em>Intermission</em><br />\nBRAHMS: String Quintet No. 2 in G major\, Op. 111</p>\n\n<div>\n<h4>ABOUT THE DOVER QUARTET</h4>\n\n<p>Joel Link\,&nbsp\;<em>violin</em>&nbsp\;| Bryan Lee\,&nbsp\;<em>violin</em>&nbsp\;| Julianne Lee\,&nbsp\;<em>viola</em>&nbsp\;| Camden Shaw\,&nbsp\;<em>cello</em><br />\nNamed one of the greatest string quartets of the last 100 years by&nbsp\;<em>BBC Music Magazine</em>&nbsp\;and &ldquo\;the next Guarneri Quartet&rdquo\; by the&nbsp\;<em>Chicago Tribune</em>\, the two-time GRAMMY-nominated Dover Quartet is one of the world&rsquo\;s most in-demand chamber ensembles. The group&rsquo\;s awards include a stunning sweep of all prizes at the 2013 Banff International String Quartet Competition\, grand and first prizes at the Fischoff Chamber Music Competition\, and prizes at the Wigmore Hall International String Quartet Competition. Its honors include the prestigious Avery Fisher Career Grant\, Chamber Music America&rsquo\;s Cleveland Quartet Award\, and Lincoln Center&rsquo\;s Hunt Family Award. The Dover Quartet is the Penelope P. Watkins Ensemble in Residence at the Curtis Institute of Music and Quartet in Residence at Northwestern University&rsquo\;s Bienen School of Music.</p>\n</div>\n
LOCATION:37 Main St\, Rockport\, MA 01966
UID:e.2981.36723
SEQUENCE:3
DTSTAMP:20260426T040743Z
URL:https://visit.rockportusa.com/events/details/rockport-chamber-music-festival-dover-quartet-roberto-diaz-viola-36723
END:VEVENT

END:VCALENDAR
