BEGIN:VCALENDAR
VERSION:2.0
PRODID:-//ChamberMaster//Event Calendar 2.0//EN
METHOD:PUBLISH
X-PUBLISHED-TTL:P3D
REFRESH-INTERVAL:P3D
CALSCALE:GREGORIAN
BEGIN:VEVENT
DTSTART:20250620T233000Z
DTEND:20250621T013000Z
X-MICROSOFT-CDO-ALLDAYEVENT:FALSE
SUMMARY:Rockport chamber Music Festival: CHENG2 DUO
DESCRIPTION:Rooted in a sibling bond\, the Cheng  Duo (pronounced Cheng Squared Duo) captivates audiences with impassioned expressivity and contagious joy. Hailed as "brilliant" (The Sunday Times)\, "truly exhilarating" (The WholeNote) and "absolutely captivating through a tremendous mastery of their instruments" (Pizzicato Magazine)\, the duo delivers performances of remarkable artistry.\n\nPROGRAM\n\nDEBUSSY: Sonata for Cello and Piano in D minor\, L.135\n\nRAVEL: Sonate posthume in A minor\, M.12\n\nFALLA: Siete canciones populares espa olas\n\nIntermission\n\nBEETHOVEN: Sonata for Piano and Cello No. 3 in A Major\, Op. 69\n\nWIJERATNE: Portrait of an Imaginary Sibling
X-ALT-DESC;FMTTYPE=text/html:<p>Rooted in a sibling bond\, the Cheng&sup2\; Duo (pronounced Cheng Squared Duo) captivates audiences with impassioned expressivity and contagious joy. Hailed as &ldquo\;brilliant&rdquo\; (<em>The Sunday Times</em>)\, &ldquo\;truly exhilarating&rdquo\; (<em>The WholeNote</em>) and &ldquo\;absolutely captivating&hellip\;through a tremendous mastery of their instruments&rdquo\; (<em>Pizzicato Magazine</em>)\, the duo delivers performances of remarkable artistry.</p>\n\n<h4>PROGRAM</h4>\n\n<p>DEBUSSY: Sonata for Cello and Piano in D minor\, L.135<br />\nRAVEL: Sonate posthume in A minor\, M.12<br />\nFALLA: Siete canciones populares espa&ntilde\;olas<br />\n<em>Intermission</em><br />\nBEETHOVEN: Sonata for Piano and Cello No. 3 in A Major\, Op. 69<br />\nWIJERATNE: Portrait of an Imaginary Sibling</p>\n
LOCATION:37 Main St\, Rockport\, MA 01966
UID:e.2981.36726
SEQUENCE:3
DTSTAMP:20260426T040743Z
URL:https://visit.rockportusa.com/events/details/rockport-chamber-music-festival-cheng2-duo-36726
END:VEVENT

END:VCALENDAR
