BEGIN:VCALENDAR
VERSION:2.0
PRODID:-//ChamberMaster//Event Calendar 2.0//EN
METHOD:PUBLISH
X-PUBLISHED-TTL:P3D
REFRESH-INTERVAL:P3D
CALSCALE:GREGORIAN
BEGIN:VEVENT
DTSTART:20250626T150000Z
DTEND:20250626T170000Z
X-MICROSOFT-CDO-ALLDAYEVENT:FALSE
SUMMARY:Rockport Chamber Music Festival: Beyond the Music - Piano & Strings Chamber Music
DESCRIPTION:The dynamic duo of musicologists\, Elizabeth Seitz and Andrew Shryock will take the audience on a musical journey through time as  they explore the evolving role of the piano in string chamber music. This lecture offers an in-depth look at the rich history and background of this beloved instrument pairing\, providing listeners with a deeper appreciation for its development and significance in chamber music.\n\nThe lecture will focus on the iconic piano trios and quartets by Beethoven\, Brahms\, Faur \, and Mozart\, to be performed during this year's Rockport Chamber Music Festival.
X-ALT-DESC;FMTTYPE=text/html:<p>The dynamic duo of musicologists\, Elizabeth Seitz and Andrew Shryock will take the audience on a musical journey through time as&nbsp\; they explore the evolving role of the piano in string chamber music. This lecture offers an in-depth look at the rich history and background of this beloved instrument pairing\, providing listeners with a deeper appreciation for its development and significance in chamber music.</p>\n\n<p>The lecture will focus on the iconic piano trios and quartets by Beethoven\, Brahms\, Faur&eacute\;\, and Mozart\, to be performed during this year&rsquo\;s Rockport Chamber Music Festival.</p>\n
LOCATION:37 Main St\, Rockport\, MA 01966
UID:e.2981.36731
SEQUENCE:3
DTSTAMP:20260426T040813Z
URL:https://visit.rockportusa.com/events/details/rockport-chamber-music-festival-beyond-the-music-piano-strings-chamber-music-36731
END:VEVENT

END:VCALENDAR
