BEGIN:VCALENDAR
VERSION:2.0
PRODID:-//ChamberMaster//Event Calendar 2.0//EN
METHOD:PUBLISH
X-PUBLISHED-TTL:P3D
REFRESH-INTERVAL:P3D
CALSCALE:GREGORIAN
BEGIN:VEVENT
DTSTART:20250620T150000Z
DTEND:20250620T170000Z
X-MICROSOFT-CDO-ALLDAYEVENT:FALSE
SUMMARY:Rockport Chamber Music Festival: Beyond the Music - Last Works of Schubert
DESCRIPTION:Join esteemed musicologist Andrew Shryock for a morning lecture celebrating and reflecting on Schubert's last years masterworks\, including the String Quintet in C major (D. 956)\, Piano Sonata in A Major (D. 959)\, and Piano Sonata in B-flat Major (D. 960).\n\nEach piece will be performed during the Rockport Chamber Music Festival\, so join for an insightful lecture that will serve as a connecting thread. Don't miss the opportunity to take a deeper look into the music\, allowing for a new perspective of understanding and listening!
X-ALT-DESC;FMTTYPE=text/html:<p>Join esteemed musicologist Andrew Shryock for a morning lecture celebrating and reflecting on Schubert&rsquo\;s last years masterworks\, including the String Quintet in C major (D. 956)\, Piano Sonata in A Major (D. 959)\, and Piano Sonata in B-flat Major (D. 960).</p>\n\n<p>Each piece will be performed during the Rockport Chamber Music Festival\, so join for an insightful lecture that will serve as a connecting thread. Don&rsquo\;t miss the opportunity to take a deeper look into the music\, allowing for a new perspective of understanding and listening!</p>\n\n<p>&nbsp\;</p>\n
LOCATION:37 Main St\, Rockport\, MA 01966
UID:e.2981.36725
SEQUENCE:3
DTSTAMP:20260426T040859Z
URL:https://visit.rockportusa.com/events/details/rockport-chamber-music-festival-beyond-the-music-last-works-of-schubert-36725
END:VEVENT

END:VCALENDAR
