BEGIN:VCALENDAR
VERSION:2.0
PRODID:-//ChamberMaster//Event Calendar 2.0//EN
METHOD:PUBLISH
X-PUBLISHED-TTL:P3D
REFRESH-INTERVAL:P3D
CALSCALE:GREGORIAN
BEGIN:VEVENT
DTSTART:20250613T233000Z
DTEND:20250614T013000Z
X-MICROSOFT-CDO-ALLDAYEVENT:FALSE
SUMMARY:Rockport Chamber Music Festival: Angele Hewitt\, piano
DESCRIPTION:Legendary pianist Angela Hewitt\, a Gramophone Magazine Hall of Famer\, opens the Festival with J.S. Bach's Goldberg Variations\, BWV 988. Renowned for her exceptional artistry\, Hewitt is celebrated as one of the finest interpreters of Bach\, praised by BBC Music Magazine for her "subtlety\, beauty of tone and instrumental command."\n\nProgram: J.S. Bach: Goldberg Variations\, BWV 988
X-ALT-DESC;FMTTYPE=text/html:<p>Legendary pianist Angela Hewitt\, a&nbsp\;<em>Gramophone Magazine</em>&nbsp\;Hall of Famer\, opens the Festival with J.S. Bach&rsquo\;s Goldberg Variations\, BWV 988. Renowned for her exceptional artistry\, Hewitt is celebrated as one of the finest interpreters of Bach\, praised by&nbsp\;<em>BBC Music Magazine</em>&nbsp\;for her &ldquo\;subtlety\, beauty of tone and instrumental command.&rdquo\;</p>\n\n<p>Program: J.S. Bach: Goldberg Variations\, BWV 988</p>\n
LOCATION:37 Main St\, Rockport\, MA 01966
UID:e.2981.36720
SEQUENCE:3
DTSTAMP:20260426T040814Z
URL:https://visit.rockportusa.com/events/details/rockport-chamber-music-festival-angele-hewitt-piano-06-13-2025-36720
END:VEVENT

END:VCALENDAR
