BEGIN:VCALENDAR
VERSION:2.0
PRODID:-//ChamberMaster//Event Calendar 2.0//EN
METHOD:PUBLISH
X-PUBLISHED-TTL:P3D
REFRESH-INTERVAL:P3D
CALSCALE:GREGORIAN
BEGIN:VEVENT
DTSTART:20250629T210000Z
DTEND:20250629T233000Z
X-MICROSOFT-CDO-ALLDAYEVENT:FALSE
SUMMARY:Rockport Chamber Music Festival: A Far Cry with Jeremy Eichler & Julian Rhee
DESCRIPTION:Hosted by former Boston Globe critic Jeremy Eichler and drawn from his award-winning book Time's Echo (History Book of the Year\, The Sunday Times)\, this unique program blends storytelling and live performance\, inviting you to listen more deeply to the history of music   and the music of history. The concert features works by Bach\, Mendelssohn\, and Strauss.\n\nPROGRAM\n\nJ.S. BACH: Chaconne from Partita No. 2\, BWV 1004\n\nMENDELSSOHN: String Octet\, Op. 20 Mvt. 4 (vsn for string orchestra)\n\nR. STRAUSS: Metamorphosen
X-ALT-DESC;FMTTYPE=text/html:<p>Hosted by former Boston Globe critic Jeremy Eichler and drawn from his award-winning book&nbsp\;<em>Time&rsquo\;s Echo</em>&nbsp\;(History Book of the Year\,&nbsp\;<em>The Sunday Times</em>)\, this unique program blends storytelling and live performance\, inviting you to listen more deeply to the history of music &mdash\; and the music of history. The concert features works by Bach\, Mendelssohn\, and Strauss.</p>\n\n<h4>PROGRAM</h4>\n\n<p>J.S. BACH: Chaconne from Partita No. 2\, BWV 1004<br />\nMENDELSSOHN: String Octet\, Op. 20 Mvt. 4 (vsn for string orchestra)<br />\nR. STRAUSS:&nbsp\;<em>Metamorphosen</em></p>\n
LOCATION:37 Main St\, Rockport\, MA 01966
UID:e.2981.36735
SEQUENCE:3
DTSTAMP:20260426T040813Z
URL:https://visit.rockportusa.com/events/details/rockport-chamber-music-festival-a-far-cry-with-jeremy-eichler-julian-rhee-36735
END:VEVENT

END:VCALENDAR
