BEGIN:VCALENDAR
VERSION:2.0
PRODID:-//ChamberMaster//Event Calendar 2.0//EN
METHOD:PUBLISH
X-PUBLISHED-TTL:P3D
REFRESH-INTERVAL:P3D
CALSCALE:GREGORIAN
BEGIN:VEVENT
DTSTART:20140706T210000Z
DTEND:20140706T210000Z
X-MICROSOFT-CDO-ALLDAYEVENT:FALSE
SUMMARY:Richard Stoltzman\, clarinet & Mika kYoshida Stoltzman\, marimba
DESCRIPTION:Two-time Grammy Award-winning clarinetist Richard Stoltzman joins Mika Yoshida Stoltzman for an eclectic mix of music-both old and new.  The program includes works by Bach\, Toru Takemitsu\, John Zorn\, Steve Reich\, Ravel and Piazzolla.  Tickets: $78/$65/$45
X-ALT-DESC;FMTTYPE=text/html:Two-time Grammy Award-winning clarinetist Richard Stoltzman joins Mika Yoshida Stoltzman for an eclectic mix of music-both old and new.  The program includes works by Bach\, Toru Takemitsu\, John Zorn\, Steve Reich\, Ravel and Piazzolla.  Tickets: $78/$65/$45
LOCATION:Shalin Liu Performance Center\, Rockport\, Ma 01966
UID:e.2981.1278
SEQUENCE:3
DTSTAMP:20260419T144347Z
URL:https://visit.rockportusa.com/events/details/richard-stoltzman-clarinet-mika-kyoshida-stoltzman-marimba-07-06-2014-1278
END:VEVENT

END:VCALENDAR
