BEGIN:VCALENDAR
VERSION:2.0
PRODID:-//ChamberMaster//Event Calendar 2.0//EN
METHOD:PUBLISH
X-PUBLISHED-TTL:P3D
REFRESH-INTERVAL:P3D
CALSCALE:GREGORIAN
BEGIN:VEVENT
DTSTART:20140510T210000Z
DTEND:20140510T220000Z
X-MICROSOFT-CDO-ALLDAYEVENT:FALSE
SUMMARY:''Remembering Zyg'' with Charles Movalli and others
DESCRIPTION:Four presenters offer personal memories of painter and teacher Zygmund Jankowski (1925-2009): Charles Movalli\, JoAnn Gleason\, Ron Straka\, and Ingrid Swanson.
X-ALT-DESC;FMTTYPE=text/html:\nFour presenters offer personal memories of painter and teacher Zygmund Jankowski (1925-2009): Charles Movalli\, JoAnn Gleason\, Ron Straka\, and Ingrid Swanson.
LOCATION:189 Main Street\, Gloucester \, Ma 01930 Trident Gallery is in downtown Gloucester\, Massachusetts\, on Main Street at the corner of Duncan Street (which becomes Pleasant Street as it crosses Main). Click here for a map and notes on nearby parking.
UID:e.2981.1291
SEQUENCE:3
DTSTAMP:20260419T182045Z
URL:https://visit.rockportusa.com/events/details/remembering-zyg-with-charles-movalli-and-others-05-10-2014-1291
END:VEVENT

END:VCALENDAR
