BEGIN:VCALENDAR
VERSION:2.0
PRODID:-//ChamberMaster//Event Calendar 2.0//EN
METHOD:PUBLISH
X-PUBLISHED-TTL:P3D
REFRESH-INTERVAL:P3D
CALSCALE:GREGORIAN
BEGIN:VEVENT
DTSTART:20140715T210000Z
DTEND:20140716T000000Z
X-MICROSOFT-CDO-ALLDAYEVENT:FALSE
SUMMARY:Reiki Share/Clinic
DESCRIPTION:Reiki Share/Clinic. 'Reiki (ray-kee) Ryoho (healing method/art') is offered in a group setting for the purpose of relaxation\, stress reduction and pain relief. Nominal : $20.00. For both Reiki Practitioners and Non-Practitioners. Come for some or all of the evening. REGISTER in ADVANCE via phone or email. Conducted in the Japanese Komyo Reiki Share style as practiced in Kyoto Japan. 5:30 - 6 pm: Reiki Share Meditation\, Reiki (Mawashi) Circle and Open Reiju (Attunement.) 6:00 - 8:00 pm- Table and/or chair sessions of Reiki. Karen began offering this Reiki Clinic/Share in 2000 at Addison Gilbert Hospital and has been working with Reiki in Healthcare and Hospitals since 1999. This 'Reiki Share/Clinic' is a venue for her students training in Reiki\, as well as experienced Reiki providers. Open to ALL! Come and enjoy the sense of community\, healthy beverages/snacks\, and Reiki for increased Comfort\, Calm and Inner Peace.
X-ALT-DESC;FMTTYPE=text/html:Reiki Share/Clinic. 'Reiki (ray-kee) Ryoho (healing method/art') is offered in a group setting for the purpose of relaxation\, stress reduction and pain relief. Nominal : $20.00. For both Reiki Practitioners and Non-Practitioners. Come for some or all of the evening. REGISTER in ADVANCE via phone or email. Conducted in the Japanese Komyo Reiki Share style as practiced in Kyoto Japan. 5:30 - 6 pm: Reiki Share Meditation\, Reiki (Mawashi) Circle and Open Reiju (Attunement.) 6:00 - 8:00 pm- Table and/or chair sessions of Reiki. Karen began offering this Reiki Clinic/Share in 2000 at Addison Gilbert Hospital and has been working with Reiki in Healthcare and Hospitals since 1999. This 'Reiki Share/Clinic' is a venue for her students training in Reiki\, as well as experienced Reiki providers. Open to ALL! Come and enjoy the sense of community\, healthy beverages/snacks\, and Reiki for increased Comfort\, Calm and Inner Peace.
LOCATION:DIRECTIONS: By Train: on the MBTA North Station/Rockport Line. (Manchester station.) By Car: FROM GLOUCESTER/CAPE ANN: Route 128 South\, towards Manch
UID:e.2981.1408
SEQUENCE:3
DTSTAMP:20260419T144101Z
URL:https://visit.rockportusa.com/events/details/reiki-share-clinic-07-15-2014-1408
END:VEVENT

END:VCALENDAR
