BEGIN:VCALENDAR
VERSION:2.0
PRODID:-//ChamberMaster//Event Calendar 2.0//EN
METHOD:PUBLISH
X-PUBLISHED-TTL:P3D
REFRESH-INTERVAL:P3D
CALSCALE:GREGORIAN
BEGIN:VEVENT
DTSTART:20131112T223000Z
DTEND:20131113T010000Z
X-MICROSOFT-CDO-ALLDAYEVENT:FALSE
SUMMARY:Reiki Clinic/Share
DESCRIPTION:Monthly Reiki Clinic/Share. Come receive Reiki in a quiet\, peaceful\, supportive setting. Reiki Sessions help promote relaxation\, increase comfort and calm\,   \nprovide a sense of inner peace\, and help facilitate the body's natural ability to heal. $20.00 donation to attend. For Information or to Register in Advance call: 978-283-4258 or email- info@dreamtimewellness.com. Providing Reiki in Healthcare and Hospitals since 1999\; Teaching Reiki since 2000.
X-ALT-DESC;FMTTYPE=text/html:Monthly Reiki Clinic/Share. Come receive Reiki in a quiet\, peaceful\, supportive setting. Reiki Sessions help promote relaxation\, increase comfort and calm\,   \nprovide a sense of inner peace\, and help facilitate the body's natural ability to heal. $20.00 donation to attend. For Information or to Register in Advance call: 978-283-4258 or email- info@dreamtimewellness.com. Providing Reiki in Healthcare and Hospitals since 1999\; Teaching Reiki since 2000.
LOCATION:66 Summer St.. \, Manchester\, MA 01944 Manchester Healing Arts Center.
UID:e.2981.1134
SEQUENCE:3
DTSTAMP:20260420T041139Z
URL:https://visit.rockportusa.com/events/details/reiki-clinic-share-11-12-2013-1134
END:VEVENT

END:VCALENDAR
