BEGIN:VCALENDAR
VERSION:2.0
PRODID:-//ChamberMaster//Event Calendar 2.0//EN
METHOD:PUBLISH
X-PUBLISHED-TTL:P3D
REFRESH-INTERVAL:P3D
CALSCALE:GREGORIAN
BEGIN:VEVENT
DTSTART:20131019T150000Z
DTEND:20131019T200000Z
X-MICROSOFT-CDO-ALLDAYEVENT:FALSE
SUMMARY:Pumpkin Day
DESCRIPTION:Coastal Farming Walking Tour\nSaturday\, Sept. 28\, 11:00am - 12:30 pm\nLearn about Cogswell's Grant in its capacity as a working farm from 1636 to the present day.  We will walk through the fields and down to the Essex River\, exploring the rich history of all the families that lived and farmed here\, and how coastal salt marsh farming here has evolved over nearly four centuries.\nAdmission: $5\; free to members of Historic New England
X-ALT-DESC;FMTTYPE=text/html:Coastal Farming Walking Tour\nSaturday\, Sept. 28\, 11:00am - 12:30 pm\nLearn about Cogswell's Grant in its capacity as a working farm from 1636 to the present day.  We will walk through the fields and down to the Essex River\, exploring the rich history of all the families that lived and farmed here\, and how coastal salt marsh farming here has evolved over nearly four centuries.\nAdmission: $5\; free to members of Historic New England
LOCATION:Cogswell's Grant\, Essex\, MA 01929 60 Spring Street\, Essex\, Mass. Directions: From Route 128\, take Exit 15\, turn onto School Street towards Essex and follow to junction with Route 133. Turn left on Route 133 west (Main St.)\, bear right at intersection of Route 22\, then turn right onto Spring Street and follow to the end.
UID:e.2981.1047
SEQUENCE:3
DTSTAMP:20260420T054745Z
URL:https://visit.rockportusa.com/events/details/pumpkin-day-10-19-2013-1047
END:VEVENT

END:VCALENDAR
