BEGIN:VCALENDAR
VERSION:2.0
PRODID:-//ChamberMaster//Event Calendar 2.0//EN
METHOD:PUBLISH
X-PUBLISHED-TTL:P3D
REFRESH-INTERVAL:P3D
CALSCALE:GREGORIAN
BEGIN:VEVENT
DTSTART:20240516T120000Z
DTEND:20240516T193000Z
X-MICROSOFT-CDO-ALLDAYEVENT:FALSE
SUMMARY:Project Adventure Social Emotional Learning (SEL) Symposium
DESCRIPTION:The SOCIAL-EMOTIONAL LEARNING (SEL) SYMPOSIUM is unique one-day conference bringing together a cross-sector group of professionals to focus on supporting the mental and emotional wellbeing of our community's youth. The Symposium hosts educators\, counselors\, and youth development workers. Through a full day of learning\, bonding\, and networking\, this event helps us learn how to best support the social and emotional learning\, mental health\, and wellbeing of children and teens in our region\n\n\n\nPLEASE CONSIDER SPONSORING A TEACHER TO ATTEND and champion the wellbeing of youth and the strength of our communities. \n\n\n\nEASY PAY OPTION HERE\n\n\n	Every gift of $135 allows a local educator to attend the Symposium for free.\n	Scholarship sponsors will be acknowledged at the event. \n\n\n\n\n	When giving\, please indicate in the comment box if you'd like your scholarship to go to a specific person. Otherwise we will choose a recipient on your behalf.
X-ALT-DESC;FMTTYPE=text/html:<div>\n<p>The<strong> SOCIAL-EMOTIONAL LEARNING (SEL) SYMPOSIUM </strong>is unique one-day conference bringing together a cross-sector group of professionals to focus on supporting the mental and emotional wellbeing of our community&rsquo\;s youth. The Symposium hosts educators\, counselors\, and youth development workers. Through a full day of learning\, bonding\, and networking\, this event helps us learn how to best support the social and emotional learning\, mental health\, and wellbeing of children and teens in our region</p>\n\n<p><br />\n<strong>PLEASE CONSIDER SPONSORING A TEACHER TO ATTEND and</strong>&nbsp\;champion the wellbeing of youth and the strength of our communities.&nbsp\;<br />\n<br />\n<strong><a href="https://app.etapestry.com/onlineforms/ProjectAdventureInc/SEL4Teachers.html"><span style="color:#B22222">EASY PAY OPTION HERE</span></a></strong></p>\n\n<ul>\n	<li><em><strong>Every gift of $135 allows a local educator to attend the Symposium for free.</strong></em></li>\n	<li><em><strong>Scholarship sponsors will be acknowledged at the event.&nbsp\;</strong></em></li>\n</ul>\n\n<div>\n<ul>\n	<li><em><strong>When giving\, please indicate in the comment box if you&rsquo\;d like your scholarship to go to a specific person. Otherwise we will choose a recipient on your behalf.</strong></em></li>\n</ul>\n</div>\n</div>\n
LOCATION:Project Adventure at Moraine Farm 719 Cabot St Beverly 01915
UID:e.2981.30808
SEQUENCE:3
DTSTAMP:20260420T203639Z
URL:https://visit.rockportusa.com/events/details/project-adventure-social-emotional-learning-sel-symposium-30808
END:VEVENT

END:VCALENDAR
