BEGIN:VCALENDAR
VERSION:2.0
PRODID:-//ChamberMaster//Event Calendar 2.0//EN
METHOD:PUBLISH
X-PUBLISHED-TTL:P3D
REFRESH-INTERVAL:P3D
CALSCALE:GREGORIAN
BEGIN:VEVENT
DTSTART:20140822T220000Z
DTEND:20140823T000000Z
X-MICROSOFT-CDO-ALLDAYEVENT:FALSE
SUMMARY:Private Lives\, Public Faces: Sexuality and Beauport in the Early Twentieth Century
DESCRIPTION:Historian Philip A. Hayden leads a thought-provoking and sometimes frank informal discussion about public and private attitudes toward human sexuality at the turn of the twentieth century. The program opens with a general overview of the norms and taboos of the day\, then looks specifically at how Beauport owner Henry Davis Sleeper and his closest friends navigated the complex and often perilous world of Boston's gay subculture. This examination of what it meant to be an outsider in Sleeper's time touches on themes of particular relevance today.\n\n$15 Historic New England members\, $25 nonmembers
X-ALT-DESC;FMTTYPE=text/html:Historian Philip A. Hayden leads a thought-provoking and sometimes frank informal discussion about public and private attitudes toward human sexuality at the turn of the twentieth century. The program opens with a general overview of the norms and taboos of the day\, then looks specifically at how Beauport owner Henry Davis Sleeper and his closest friends navigated the complex and often perilous world of Boston's gay subculture. This examination of what it meant to be an outsider in Sleeper's time touches on themes of particular relevance today.\n\n$15 Historic New England members\, $25 nonmembers
LOCATION:75 Eastern Point Blvd.\, Gloucester \, MA 01930 Directions detail: Take Route I-95/128 north to the end. At second set of lights after the second rotary\, take East Main Street 1.5 miles\, approximately eight minutes\, to the stone pillars at the entrance to Eastern Point Boulevard. Proceed through the pillars and follow Eastern Point Boulevard .5 mile to Beauport. Parking: The Beauport parking lot is across the street from the house.
UID:e.2981.1351
SEQUENCE:3
DTSTAMP:20260419T144754Z
URL:https://visit.rockportusa.com/events/details/private-lives-public-faces-sexuality-and-beauport-in-the-early-twentieth-century-08-22-2014-1351
END:VEVENT

END:VCALENDAR
