BEGIN:VCALENDAR
VERSION:2.0
PRODID:-//ChamberMaster//Event Calendar 2.0//EN
METHOD:PUBLISH
X-PUBLISHED-TTL:P3D
REFRESH-INTERVAL:P3D
CALSCALE:GREGORIAN
BEGIN:VEVENT
DTSTART:20140517T120000Z
DTEND:20140517T160000Z
X-MICROSOFT-CDO-ALLDAYEVENT:FALSE
SUMMARY:Plant Sale to benefit Gloucester Education Foundation
DESCRIPTION:Calling all generous gardeners to help raise funds for the Gloucester Education Foundation. Arrive early to purchase select plants! All usable gardening items\, plants\, trees\, shrubs\, annuals\, perennials\, herbs and vegetable donations are welcome and can be dropped off near the Tennis Courts Friday May 16th 3:00 – 6:00 PM \nContact Susan@GenerousGardeners.org to arrange pick up or drop off at an earlier date. Since all of the proceeds benefit GEF\, www.thinkthebest.org\, you will get a tax deduction for whatever we earn from your plants
X-ALT-DESC;FMTTYPE=text/html:Calling all generous gardeners to help raise funds for the Gloucester Education Foundation. Arrive early to purchase select plants! All usable gardening items\, plants\, trees\, shrubs\, annuals\, perennials\, herbs and vegetable donations are welcome and can be dropped off near the Tennis Courts Friday May 16th 3:00 – 6:00 PM \nContact Susan@GenerousGardeners.org to arrange pick up or drop off at an earlier date. Since all of the proceeds benefit GEF\, www.thinkthebest.org\, you will get a tax deduction for whatever we earn from your plants\n
LOCATION:Stacy Boulevard\, Gloucester\, MA 01930 Stacy Boulevard at “The Perennial Garden Series” (near tennis and bocce courts)
UID:e.2981.1211
SEQUENCE:3
DTSTAMP:20260419T182305Z
URL:https://visit.rockportusa.com/events/details/plant-sale-to-benefit-gloucester-education-foundation-05-17-2014-1211
END:VEVENT

END:VCALENDAR
