BEGIN:VCALENDAR
VERSION:2.0
PRODID:-//ChamberMaster//Event Calendar 2.0//EN
METHOD:PUBLISH
X-PUBLISHED-TTL:P3D
REFRESH-INTERVAL:P3D
CALSCALE:GREGORIAN
BEGIN:VEVENT
DTSTART:20131214T180000Z
DTEND:20131214T210000Z
X-MICROSOFT-CDO-ALLDAYEVENT:FALSE
SUMMARY:Photos with Santa Toy Drive
DESCRIPTION:Oasis Rockport's Annual Photos with Santa Toy Drive will be held on December 14th from 1pm-4pm at the Fish Shack Restaurant in Dock Square\, Rockport. Bring in a new\, unwrapped toy to donate and get a no charge photo with Santa. There will be refreshments (including hot cocoa and baked goods sponsored by the Teen Center)\, activities and fun throughout the event. Hope to see you there. More info - holiday@oasisrockport.com.
X-ALT-DESC;FMTTYPE=text/html:Oasis Rockport's Annual Photos with Santa Toy Drive will be held on December 14th from 1pm-4pm at the Fish Shack Restaurant in Dock Square\, Rockport. Bring in a new\, unwrapped toy to donate and get a no charge photo with Santa. There will be refreshments (including hot cocoa and baked goods sponsored by the Teen Center)\, activities and fun throughout the event. Hope to see you there. More info - holiday@oasisrockport.com.
LOCATION:12 Dock Square\, Rockport\, MA 01966 Fish Shack Restaurant\, 12 Dock Square\, Rockport MA 01966
UID:e.2981.1150
SEQUENCE:3
DTSTAMP:20260420T041256Z
URL:https://visit.rockportusa.com/events/details/photos-with-santa-toy-drive-12-14-2013-1150
END:VEVENT

END:VCALENDAR
