BEGIN:VCALENDAR
VERSION:2.0
PRODID:-//ChamberMaster//Event Calendar 2.0//EN
METHOD:PUBLISH
X-PUBLISHED-TTL:P3D
REFRESH-INTERVAL:P3D
CALSCALE:GREGORIAN
BEGIN:VEVENT
DTSTART:20140830T000000Z
DTEND:20140830T000000Z
X-MICROSOFT-CDO-ALLDAYEVENT:FALSE
SUMMARY:Paula Cole
DESCRIPTION:Rockport's own Paula Cole has won Grammy's and played sold-out arenas\, but always manages to return to her hometown for a memorable night of smash hits like ''I Don't Want to Wait'' and ''Where Have All the Cowboys Gone?'' as well as tunes from her most recent record\, Raven.  Tickets: $68/$58/$49
X-ALT-DESC;FMTTYPE=text/html:Rockport's own Paula Cole has won Grammy's and played sold-out arenas\, but always manages to return to her hometown for a memorable night of smash hits like ''I Don't Want to Wait'' and ''Where Have All the Cowboys Gone?'' as well as tunes from her most recent record\, Raven.  Tickets: $68/$58/$49
LOCATION:Shalin Liu Performance Center\, Rockport\, Ma 01966
UID:e.2981.1270
SEQUENCE:3
DTSTAMP:20260419T130417Z
URL:https://visit.rockportusa.com/events/details/paula-cole-08-29-2014-1270
END:VEVENT

END:VCALENDAR
