BEGIN:VCALENDAR
VERSION:2.0
PRODID:-//ChamberMaster//Event Calendar 2.0//EN
METHOD:PUBLISH
X-PUBLISHED-TTL:P3D
REFRESH-INTERVAL:P3D
CALSCALE:GREGORIAN
BEGIN:VEVENT
DTSTART:20140329T210000Z
DTEND:20140329T230000Z
X-MICROSOFT-CDO-ALLDAYEVENT:FALSE
SUMMARY:Pale Shadows: Artist's Reception at Trident Gallery
DESCRIPTION:Trident Gallery is pleased to host an artist's reception in honor of Pamela Ellis Hawkes\, as part of the Pale Shadows exhibition\, on Saturday\, March 29th from 5:00-7:00 p.m.
X-ALT-DESC;FMTTYPE=text/html:Trident Gallery is pleased to host an artist's reception in honor of Pamela Ellis Hawkes\, as part of the Pale Shadows exhibition\, on Saturday\, March 29th from 5:00-7:00 p.m. 
LOCATION:189 Main Street\, Gloucester \, MA 01944 Trident Gallery is in downtown Gloucester\, Massachusetts\, on Main Street at the corner of Duncan Street (which becomes Pleasant Street as it crosses Main).
UID:e.2981.1219
SEQUENCE:3
DTSTAMP:20260419T231221Z
URL:https://visit.rockportusa.com/events/details/pale-shadows-artist-s-reception-at-trident-gallery-03-29-2014-1219
END:VEVENT

END:VCALENDAR
