BEGIN:VCALENDAR
VERSION:2.0
PRODID:-//ChamberMaster//Event Calendar 2.0//EN
METHOD:PUBLISH
X-PUBLISHED-TTL:P3D
REFRESH-INTERVAL:P3D
CALSCALE:GREGORIAN
BEGIN:VEVENT
DTSTART:20140514T220000Z
DTEND:20140514T123000Z
X-MICROSOFT-CDO-ALLDAYEVENT:FALSE
SUMMARY:Our Changing Shoreline A Cape Ann Community Climate Change Workshop
DESCRIPTION:Are you curious about the changing coasts and beaches? Want to find out what tools and resources are available to help you better understand what is happening?  Maritime Gloucester is hosting a Cape Ann community workshop on Wednesday\, May 14 from 6:00 to 8:30 pm at Gloucester's Rose Baker Senior Center on the past\, present and future changes to our area shoreline. This workshop will provide overview presentations on the coastal environment and the available tools and resources. Discussion time will be allotted for table conversations on topics associated with residents' observations\, concerns and perspectives on adaptation measures.  The workshop is free and open to residents of all Cape Ann communities.
X-ALT-DESC;FMTTYPE=text/html:Are you curious about the changing coasts and beaches? Want to find out what tools and resources are available to help you better understand what is happening?  Maritime Gloucester is hosting a Cape Ann community workshop on Wednesday\, May 14 from 6:00 to 8:30 pm at Gloucester's Rose Baker Senior Center on the past\, present and future changes to our area shoreline. This workshop will provide overview presentations on the coastal environment and the available tools and resources. Discussion time will be allotted for table conversations on topics associated with residents' observations\, concerns and perspectives on adaptation measures.  The workshop is free and open to residents of all Cape Ann communities.
LOCATION:6 Manual F. Lewis Street \, Gloucester\, MA 01930 Rose Baker Senior Center
UID:e.2981.1300
SEQUENCE:3
DTSTAMP:20260419T181910Z
URL:https://visit.rockportusa.com/events/details/our-changing-shoreline-a-cape-ann-community-climate-change-workshop-05-14-2014-1300
END:VEVENT

END:VCALENDAR
