BEGIN:VCALENDAR
VERSION:2.0
PRODID:-//ChamberMaster//Event Calendar 2.0//EN
METHOD:PUBLISH
X-PUBLISHED-TTL:P3D
REFRESH-INTERVAL:P3D
CALSCALE:GREGORIAN
BEGIN:VEVENT
DTSTART:20140524T140000Z
DTEND:20140524T210000Z
X-MICROSOFT-CDO-ALLDAYEVENT:FALSE
SUMMARY:Opening Day at Beauport\, the Sleeper - McCann House
DESCRIPTION:Join us for opening day at Beauport\, the Sleeper-McCann House on Eastern Point in Gloucester.  The house is open from 10 am - 5 p.m. with guided tours.  The last tour of the day is at 4 p.m.  Please note that the house is free for members of Historic New England and Gloucester Residents.
X-ALT-DESC;FMTTYPE=text/html:Join us for opening day at Beauport\, the Sleeper-McCann House on Eastern Point in Gloucester.  The house is open from 10 am - 5 p.m. with guided tours.  The last tour of the day is at 4 p.m.  Please note that the house is free for members of Historic New England and Gloucester Residents.
LOCATION:75 Eastern Point Boulevard\, Gloucester\, MA 01930 Parking is available in the large lot across the street.
UID:e.2981.1314
SEQUENCE:3
DTSTAMP:20260419T182305Z
URL:https://visit.rockportusa.com/events/details/opening-day-at-beauport-the-sleeper-mccann-house-05-24-2014-1314
END:VEVENT

END:VCALENDAR
