BEGIN:VCALENDAR
VERSION:2.0
PRODID:-//ChamberMaster//Event Calendar 2.0//EN
METHOD:PUBLISH
X-PUBLISHED-TTL:P3D
REFRESH-INTERVAL:P3D
CALSCALE:GREGORIAN
BEGIN:VEVENT
DTSTART:20240227T230000Z
DTEND:20240228T000000Z
X-MICROSOFT-CDO-ALLDAYEVENT:FALSE
SUMMARY:Online Workshop: How to Start Seeds Indoors
DESCRIPTION:In this online workshop\, Backyard Growers will guide you through the process of starting your own vegetable seeds indoors\, including a materials list\, dos and don'ts\, and a live Q&A. Starting seeds at home is a great way to get a jumpstart on the growing season.\n\n \n\nTickets: $15 general admission /\n\nFREE for Backyard Growers Program participants (e.g. 2024 Community Garden\, Backyard Garden\, GrowBag Garden Programs managed by Backyard Growers)\n\nProceeds support our work empowering people to grow their own food and increasing access to vegetable gardening resources.\n\n \n\nPlus\, stop by Backyard Growers HQ to pick up FREE vegetable seeds on Thursday\, February 29\, 3:30-5:30pm.
X-ALT-DESC;FMTTYPE=text/html:<div>In this online workshop\, Backyard Growers will guide you through the process of starting your own vegetable seeds indoors\, including a materials list\, dos and don&rsquo\;ts\, and a live Q&amp\;A. Starting seeds at home is a great way to get a jumpstart on the growing season.<br />\n&nbsp\;</div>\n\n<div>Tickets: $15 general admission /<br />\nFREE for Backyard Growers Program participants (e.g. 2024 Community Garden\, Backyard Garden\, GrowBag Garden Programs managed by Backyard Growers)</div>\n\n<div>Proceeds support our work empowering people to grow their own food and increasing access to vegetable gardening resources.<br />\n&nbsp\;</div>\n\n<div>Plus\, stop by Backyard Growers HQ to pick up FREE vegetable seeds on Thursday\, February 29\, 3:30-5:30pm.&nbsp\;</div>\n
LOCATION:Online
UID:e.2981.30150
SEQUENCE:3
DTSTAMP:20260424T031205Z
URL:https://visit.rockportusa.com/events/details/online-workshop-how-to-start-seeds-indoors-30150
END:VEVENT

END:VCALENDAR
