BEGIN:VCALENDAR
VERSION:2.0
PRODID:-//ChamberMaster//Event Calendar 2.0//EN
METHOD:PUBLISH
X-PUBLISHED-TTL:P3D
REFRESH-INTERVAL:P3D
CALSCALE:GREGORIAN
BEGIN:VEVENT
DTSTART:20140628T180000Z
DTEND:20140628T180000Z
X-MICROSOFT-CDO-ALLDAYEVENT:FALSE
SUMMARY:Next Generation Recital
DESCRIPTION:Matthew Woodard\, violin | John Belk\, cello | Annie Jeong\, piano\n\nThe Next Generation concert is an ongoing Rockport Music series featuring young musicians still in the early development of their musical career.   All undergraduates at Bard College\, violinist Matthew Woodard\, cellist John Belk and pianist Annie Jeong will pay homage to the music of the past while contextualizing a new era of musical creation.  Free\, no tickets required.
X-ALT-DESC;FMTTYPE=text/html:Matthew Woodard\, violin | John Belk\, cello | Annie Jeong\, piano\n\nThe Next Generation concert is an ongoing Rockport Music series featuring young musicians still in the early development of their musical career.   All undergraduates at Bard College\, violinist Matthew Woodard\, cellist John Belk and pianist Annie Jeong will pay homage to the music of the past while contextualizing a new era of musical creation.  Free\, no tickets required.\n
LOCATION:Shalin Liu Performance Center\, Rockport\, Ma 01966
UID:e.2981.1256
SEQUENCE:3
DTSTAMP:20260419T162521Z
URL:https://visit.rockportusa.com/events/details/next-generation-recital-06-28-2014-1256
END:VEVENT

END:VCALENDAR
