BEGIN:VCALENDAR
VERSION:2.0
PRODID:-//ChamberMaster//Event Calendar 2.0//EN
METHOD:PUBLISH
X-PUBLISHED-TTL:P3D
REFRESH-INTERVAL:P3D
CALSCALE:GREGORIAN
BEGIN:VEVENT
DTSTART:20140717T210000Z
DTEND:20140717T230000Z
X-MICROSOFT-CDO-ALLDAYEVENT:FALSE
SUMMARY:New this Year: July Business After Hours/Auction Preview!!
DESCRIPTION:Come Network and Preview the exciting items from this years Auction\, in the beautiful surroundings of the Essex Room at Woodman's!Mingle with Friends\, Business Associates and other area Business Leaders.  Network and Preview the items for this years Live and Silent Auctions!  Get a head start on what you would like to bid on!This event is complimentary and is Sponsored and Hosted by Woodman's of Essex and the Cape Ann Chamber of Commerce.This is a New Event this year\, and we expect it to be a Great one!
X-ALT-DESC;FMTTYPE=text/html:<p>Come Network and Preview the exciting items from this years Auction\, in the beautiful surroundings of the Essex Room at Woodman's!</p><p>Mingle with Friends\, Business Associates and other area Business Leaders.&nbsp\; Network and Preview the items for this years Live and Silent Auctions!&nbsp\; Get a head start on what you would like to bid on!</p><p>This event is complimentary and is Sponsored and Hosted by Woodman's of Essex and the Cape Ann Chamber of Commerce.</p><p>This is a New Event this year\, and we expect it to be a Great one!</p>
LOCATION:Woodman's 121 Main St\, Essex\, MA 01929
UID:e.2981.1332
SEQUENCE:3
DTSTAMP:20260419T144600Z
URL:https://visit.rockportusa.com/events/details/new-this-year-july-business-after-hours-auction-preview-07-17-2014-1332
END:VEVENT

END:VCALENDAR
