BEGIN:VCALENDAR
VERSION:2.0
PRODID:-//ChamberMaster//Event Calendar 2.0//EN
METHOD:PUBLISH
X-PUBLISHED-TTL:P3D
REFRESH-INTERVAL:P3D
CALSCALE:GREGORIAN
BEGIN:VEVENT
DTSTART:20140618T000000Z
DTEND:20140618T000000Z
X-MICROSOFT-CDO-ALLDAYEVENT:FALSE
SUMMARY:Neave Trio
DESCRIPTION:Rising Star Series: Neave Trio\nHailed by critics as ''absolutely stunning'' (Golden Valley Music Society)\, the Neave Piano Trio joined the SDSU School of Music and Dance in Fall 2012 in the prestigious Trio-in-Residence program.  The Trio will perform works by Haydn\, Dvorák and Shostakovich.\nTickets:$334/$28/$19
X-ALT-DESC;FMTTYPE=text/html:Rising Star Series: Neave Trio\nHailed by critics as ''absolutely stunning'' (Golden Valley Music Society)\, the Neave Piano Trio joined the SDSU School of Music and Dance in Fall 2012 in the prestigious Trio-in-Residence program.  The Trio will perform works by Haydn\, Dvorák and Shostakovich.\nTickets:$334/$28/$19
LOCATION:Shalin Liu Performance Center\, Rockport\, Ma 01966
UID:e.2981.1267
SEQUENCE:3
DTSTAMP:20260419T162521Z
URL:https://visit.rockportusa.com/events/details/neave-trio-06-17-2014-1267
END:VEVENT

END:VCALENDAR
