BEGIN:VCALENDAR
VERSION:2.0
PRODID:-//ChamberMaster//Event Calendar 2.0//EN
METHOD:PUBLISH
X-PUBLISHED-TTL:P3D
REFRESH-INTERVAL:P3D
CALSCALE:GREGORIAN
BEGIN:VEVENT
DTSTART:20131017T230000Z
DTEND:20131017T230000Z
X-MICROSOFT-CDO-ALLDAYEVENT:FALSE
SUMMARY:National Theatre of London: Macbeth by William Shakespeare
DESCRIPTION:Enjoy Manchester International Festival's electrifying production of Macbeth\, with Kenneth Branagh (My Week With Marilyn\, Hamlet) in his first Shakespeare performance in over a decade as Macbeth\, and Alex Kingston (Doctor Who\, ER) as Lady Macbeth. \n\nDirected by Olivier and Tony Award-winner Rob Ashford (Anna Christie at the Donmar Warehouse\, Thoroughly Modern Millie on Broadway) and BAFTA Award-winner Kenneth Branagh\, this unique production of Shakespeare's tragic tale of ambition and treachery unfolds within the walls of an intimate deconsecrated Manchester church.\n\nTickets for NTE Live: $22/ $15 Students & Seniors\, $5 Youth
X-ALT-DESC;FMTTYPE=text/html:Enjoy Manchester International Festival's electrifying production of Macbeth\, with Kenneth Branagh (My Week With Marilyn\, Hamlet) in his first Shakespeare performance in over a decade as Macbeth\, and Alex Kingston (Doctor Who\, ER) as Lady Macbeth. \n\nDirected by Olivier and Tony Award-winner Rob Ashford (Anna Christie at the Donmar Warehouse\, Thoroughly Modern Millie on Broadway) and BAFTA Award-winner Kenneth Branagh\, this unique production of Shakespeare's tragic tale of ambition and treachery unfolds within the walls of an intimate deconsecrated Manchester church.\n\nTickets for NTE Live: $22/ $15 Students & Seniors\, $5 Youth
LOCATION:Shalin Liu Performance Center\, Rockport\, MA 01966 Travelling by Car: Rockport is 45 miles from downtown Boston. Drive north on Route 128 (through two rotaries) to the traffic light in Gloucester. At the traffic light\, turn left onto Route 127. Drive 4 miles to Rockport. Continue through “Five Corners” onto Route 127A (Broadway) toward the harbor. It’s a slight vere to the right. At the stop sign at Mt. Pleasant Street (lighthouse in median)\, turn left and then bear left onto Main Street. The Shalin Liu Performance Center is on the right at 37 Main Street. Travelling by Train: Rockport is accessible by commuter rail from Boston and other Northshore towns. The commuter rail originates from North Station on the Green line in Boston. The train station is ½ mile walk to the concert hall. Walking Directions from Rockport Train Station: Leave Rockport Commuter Rail Station and turn left onto Railroad Avenue. Turn right onto King Street for and then turn right onto Beach Street (Atlantic Ocean and Front Beach on other side of Beach Street). Follow Beach Street and the Shalin Liu Performance Center will be on your left after you’ve merged onto Main Street. The Congregational Church is across the street.
UID:e.2981.1082
SEQUENCE:3
DTSTAMP:20260420T055255Z
URL:https://visit.rockportusa.com/events/details/national-theatre-of-london-macbeth-by-william-shakespeare-10-17-2013-1082
END:VEVENT

END:VCALENDAR
