BEGIN:VCALENDAR
VERSION:2.0
PRODID:-//ChamberMaster//Event Calendar 2.0//EN
METHOD:PUBLISH
X-PUBLISHED-TTL:P3D
REFRESH-INTERVAL:P3D
CALSCALE:GREGORIAN
BEGIN:VEVENT
DTSTART:20140515T230000Z
DTEND:20140515T230000Z
X-MICROSOFT-CDO-ALLDAYEVENT:FALSE
SUMMARY:National Theatre Live in HD: King Lear by William Shakespeare
DESCRIPTION:Academy Award winner Sam Mendes (Skyfall\, American Beauty) \nreturns to the National Theatre to direct Simon Russell Beale \n(Timon of Athens\, Collaborators) in the title role of Shakespeare's tragedy. An aged king decides to divide his kingdom between his \nthree daughters\, according to which of them is most eloquent in praising him. His favorite\, Cordelia\, says nothing. Lear's world descends into chaos.
X-ALT-DESC;FMTTYPE=text/html:\nAcademy Award winner Sam Mendes (Skyfall\, American Beauty) \nreturns to the National Theatre to direct Simon Russell Beale \n(Timon of Athens\, Collaborators) in the title role of Shakespeare's tragedy. An aged king decides to divide his kingdom between his \nthree daughters\, according to which of them is most eloquent in praising him. His favorite\, Cordelia\, says nothing. Lear's world descends into chaos.\n\n
LOCATION:Shalin Liu Performance Center\, Rockport\, MA 01966 Travelling by Car Rockport is 45 miles from downtown Boston. Drive north on Route 128 (through two rotaries) to the traffic light in Gloucester. At the traffic light\, turn left onto Route 127. Drive 4 miles to Rockport. Continue through “Five Corners” onto Route 127A (Broadway) toward the harbor. It’s a slight vere to the right. At the stop sign at Mt. Pleasant Street (lighthouse in median)\, turn left and then bear left onto Main Street. The Shalin Liu Performance Center is on the right at 37 Main Street. Travelling by Train Rockport is accessible by commuter rail from Boston and other Northshore towns. The commuter rail originates from North Station on the Green line in Boston. The train station is ½ mile walk to the concert hall.
UID:e.2981.1170
SEQUENCE:3
DTSTAMP:20260419T182220Z
URL:https://visit.rockportusa.com/events/details/national-theatre-live-in-hd-king-lear-by-william-shakespeare-05-15-2014-1170
END:VEVENT

END:VCALENDAR
