BEGIN:VCALENDAR
VERSION:2.0
PRODID:-//ChamberMaster//Event Calendar 2.0//EN
METHOD:PUBLISH
X-PUBLISHED-TTL:P3D
REFRESH-INTERVAL:P3D
CALSCALE:GREGORIAN
BEGIN:VEVENT
DTSTART:20140514T230000Z
DTEND:20140514T230000Z
X-MICROSOFT-CDO-ALLDAYEVENT:FALSE
SUMMARY:National Theatre in HD: Man and Superman
DESCRIPTION:Academy Award nominee Ralph Fiennes (The English Patient\, Schindler's List\; Oedipus at the National Theatre) plays Jack Tanner in this exhilarating reinvention of Shaw's witty\, provocative classic.\n\nA romantic comedy\, an epic fairytale\, a fiery philosophical debate\, Man and Superman asks fundamental questions about how we live. \nJack Tanner\, celebrated radical thinker and rich bachelor\, seems an unlikely choice as guardian to the alluring heiress\, Ann. But she takes it in her assured stride and\, despite the love of a poet\, she decides to marry and tame this dazzling revolutionary.
X-ALT-DESC;FMTTYPE=text/html:Academy Award nominee Ralph Fiennes (The English Patient\, Schindler's List\; Oedipus at the National Theatre) plays Jack Tanner in this exhilarating reinvention of Shaw's witty\, provocative classic.\n\nA romantic comedy\, an epic fairytale\, a fiery philosophical debate\, Man and Superman asks fundamental questions about how we live. \nJack Tanner\, celebrated radical thinker and rich bachelor\, seems an unlikely choice as guardian to the alluring heiress\, Ann. But she takes it in her assured stride and\, despite the love of a poet\, she decides to marry and tame this dazzling revolutionary. \n
LOCATION:Shalin Liu Performance Center\, Rockport\, MA 01966 http://www.rockportmusic.org/directions-and-parking/
UID:e.2981.1611
SEQUENCE:3
DTSTAMP:20260419T182344Z
URL:https://visit.rockportusa.com/events/details/national-theatre-in-hd-man-and-superman-05-14-2014-1611
END:VEVENT

END:VCALENDAR
