BEGIN:VCALENDAR
VERSION:2.0
PRODID:-//ChamberMaster//Event Calendar 2.0//EN
METHOD:PUBLISH
X-PUBLISHED-TTL:P3D
REFRESH-INTERVAL:P3D
CALSCALE:GREGORIAN
BEGIN:VEVENT
DTSTART:20131127T000000Z
DTEND:20131127T000000Z
X-MICROSOFT-CDO-ALLDAYEVENT:FALSE
SUMMARY:National Theatre 50th Anniversary Theatrical Special
DESCRIPTION:Celebrate National Theatre's milestone anniversary with a once-in-a-lifetime performance broadcast to cinemas around the world. From Rosencrantz and Guildenstern Are Dead to The History Boys\, from The Mysteries to Angels in America\, from Guys and Dolls to War Horse--Nicholas Hytner directs a thrilling evening of live theatre\, with rare glimpses from the archive featuring many of the original actors who have performed on the National's stages over the past five decades. \n\nFrom its early golden period under the leadership of Laurence Olivier at the Old Vic theatre to its now iconic building in the heart of London\, the National Theatre has been home to Britain's finest theatrical talent\, premiering works by renowned writers such as Harold Pinter\, Peter Shaffer\, Tom Stoppard\, Alan Bennett\, and David Hare\, and staging celebrated performances by Maggie Smith\, Derek Jacobi\, Judi Dench\, Michael Gambon\, and the rising stars of today. \n\nNew from NTE:  From Rosencrantz and Guildenstern Are Dead to The History Boys\, from Antony and Cleopatra to Angels in America\, from Guys and Dolls to London Road\, this will be a thrilling evening of live performance and rare glimpses from the archive\, featuring many of the most celebrated actors who have performed on their stages over the past five decades and directed by Nicholas Hytner. The celebration will be broadcast to cinemas internationally and in the UK on BBC Two on Saturday\, November 2\, 2013 (with many encore dates in U.S. cities).\n\nFrom its early golden period under the leadership of Laurence Olivier at the Old Vic theatre to its now iconic building in the heart of London\, the National Theatre has been home to Britain's finest theatrical talent\, premiering works by renowned writers such as Harold Pinter\, Peter Shaffer\, Tom Stoppard\, Alan Bennett and David Hare\, and staging celebrated performances by Maggie Smith\, Derek Jacobi\, Judi Dench\, Michael Gambon and the rising stars of today. \n\nThe cast for the celebration includes
X-ALT-DESC;FMTTYPE=text/html:Celebrate National Theatre's milestone anniversary with a once-in-a-lifetime performance broadcast to cinemas around the world. From Rosencrantz and Guildenstern Are Dead to The History Boys\, from The Mysteries to Angels in America\, from Guys and Dolls to War Horse--Nicholas Hytner directs a thrilling evening of live theatre\, with rare glimpses from the archive featuring many of the original actors who have performed on the National's stages over the past five decades. \n\nFrom its early golden period under the leadership of Laurence Olivier at the Old Vic theatre to its now iconic building in the heart of London\, the National Theatre has been home to Britain's finest theatrical talent\, premiering works by renowned writers such as Harold Pinter\, Peter Shaffer\, Tom Stoppard\, Alan Bennett\, and David Hare\, and staging celebrated performances by Maggie Smith\, Derek Jacobi\, Judi Dench\, Michael Gambon\, and the rising stars of today. \n\nNew from NTE:  From Rosencrantz and Guildenstern Are Dead to The History Boys\, from Antony and Cleopatra to Angels in America\, from Guys and Dolls to London Road\, this will be a thrilling evening of live performance and rare glimpses from the archive\, featuring many of the most celebrated actors who have performed on their stages over the past five decades and directed by Nicholas Hytner. The celebration will be broadcast to cinemas internationally and in the UK on BBC Two on Saturday\, November 2\, 2013 (with many encore dates in U.S. cities).\n\nFrom its early golden period under the leadership of Laurence Olivier at the Old Vic theatre to its now iconic building in the heart of London\, the National Theatre has been home to Britain's finest theatrical talent\, premiering works by renowned writers such as Harold Pinter\, Peter Shaffer\, Tom Stoppard\, Alan Bennett and David Hare\, and staging celebrated performances by Maggie Smith\, Derek Jacobi\, Judi Dench\, Michael Gambon and the rising stars of today. \n\nThe cast for the celebration includes 
LOCATION:Shalin Liu Performance Center\, Rockport\, MA 01966 Travelling by Car: Rockport is 45 miles from downtown Boston. Drive north on Route 128 (through two rotaries) to the traffic light in Gloucester. At the traffic light\, turn left onto Route 127. Drive 4 miles to Rockport. Continue through “Five Corners” onto Route 127A (Broadway) toward the harbor. It’s a slight vere to the right. At the stop sign at Mt. Pleasant Street (lighthouse in median)\, turn left and then bear left onto Main Street. The Shalin Liu Performance Center is on the right at 37 Main Street. Travelling by Train: Rockport is accessible by commuter rail from Boston and other Northshore towns. The commuter rail originates from North Station on the Green line in Boston. The train station is ½ mile walk to the concert hall. Walking Directions from Rockport Train Station: Leave Rockport Commuter Rail Station and turn left onto Railroad Avenue. Turn right onto King Street for and then turn right onto Beach Street (Atlantic Ocean and Front Beach on other side of Beach Street). Follow Beach Street and the Shalin Liu Performance Center will be on your left after you’ve merged onto Main Street. The Congregational Church is across the street.
UID:e.2981.1072
SEQUENCE:3
DTSTAMP:20260420T041307Z
URL:https://visit.rockportusa.com/events/details/national-theatre-50th-anniversary-theatrical-special-11-26-2013-1072
END:VEVENT

END:VCALENDAR
