BEGIN:VCALENDAR
VERSION:2.0
PRODID:-//ChamberMaster//Event Calendar 2.0//EN
METHOD:PUBLISH
X-PUBLISHED-TTL:P3D
REFRESH-INTERVAL:P3D
CALSCALE:GREGORIAN
BEGIN:VEVENT
DTSTART:20140111T233000Z
DTEND:20140111T233000Z
X-MICROSOFT-CDO-ALLDAYEVENT:FALSE
SUMMARY:National Gallery - CAM Film Series
DESCRIPTION:National Gallery is master documentarian Frederick Wiseman's portrait of the estimable London institution of the same name. Wiseman\, who spent 12 weeks deep inside the National Gallery\, focuses his lens largely on the artwork and paintings themselves\, but also on the people - the art historians\, educators\, conservators\, museum staff\, as well as the many visitors - all of whom have an intimate relationship with both the place and the art.\n\nTickets are $10.50. Museum members and CACC members $7.50. The Cape Ann Community Cinema is located at 21 Main Street in Gloucester\; details at capeanncinema.com.
X-ALT-DESC;FMTTYPE=text/html:National Gallery is master documentarian Frederick Wiseman's portrait of the estimable London institution of the same name. Wiseman\, who spent 12 weeks deep inside the National Gallery\, focuses his lens largely on the artwork and paintings themselves\, but also on the people - the art historians\, educators\, conservators\, museum staff\, as well as the many visitors - all of whom have an intimate relationship with both the place and the art.\n\nTickets are $10.50. Museum members and CACC members $7.50. The Cape Ann Community Cinema is located at 21 Main Street in Gloucester\; details at capeanncinema.com.
LOCATION:27 Pleasant St\, Gloucester\, MA 01930 The Cape Ann Community Cinema is located at 21 Main Street in downtown Gloucester.
UID:e.2981.1608
SEQUENCE:3
DTSTAMP:20260420T005213Z
URL:https://visit.rockportusa.com/events/details/national-gallery-cam-film-series-01-11-2014-1608
END:VEVENT

END:VCALENDAR
