BEGIN:VCALENDAR
VERSION:2.0
PRODID:-//ChamberMaster//Event Calendar 2.0//EN
METHOD:PUBLISH
X-PUBLISHED-TTL:P3D
REFRESH-INTERVAL:P3D
CALSCALE:GREGORIAN
BEGIN:VEVENT
DTSTART:20140627T223000Z
DTEND:20140628T010000Z
X-MICROSOFT-CDO-ALLDAYEVENT:FALSE
SUMMARY:MUSIC ABOARD THE SCHOONER LANNON
DESCRIPTION:Kick off Fiesta with a Sunset Music Sail on the Schooner Thomas E. Lannon on Friday\, June 27th from 6:30-9:00 p.m. Local musicians (about 10 of them!) perform bluegrass\, Celtic\, folk and maybe even a little classical music as the Schooner sails around Gloucester harbor at sunset. The Lannon sets sail from Seven Seas Wharf at the Gloucester House Restaurant\, Rt. 127\, Gloucester. Tickets are $50/adults\, $45/seniors\, $37.50/kids. Go to schooner.org/book-online or call (978) 281-6634 for information and reservations.
X-ALT-DESC;FMTTYPE=text/html:Kick off Fiesta with a Sunset Music Sail on the Schooner Thomas E. Lannon on Friday\, June 27th from 6:30-9:00 p.m. Local musicians (about 10 of them!) perform bluegrass\, Celtic\, folk and maybe even a little classical music as the Schooner sails around Gloucester harbor at sunset. The Lannon sets sail from Seven Seas Wharf at the Gloucester House Restaurant\, Rt. 127\, Gloucester. Tickets are $50/adults\, $45/seniors\, $37.50/kids. Go to schooner.org/book-online or call (978) 281-6634 for information and reservations.
LOCATION:63 Rogers Street\, Gloucester\, MA 01930 Seven Seas Wharf at the Gloucester House Restaurant\, 63 Rogers Street (Route. 127)\, Gloucester
UID:e.2981.1371
SEQUENCE:3
DTSTAMP:20260419T162819Z
URL:https://visit.rockportusa.com/events/details/music-aboard-the-schooner-lannon-06-27-2014-1371
END:VEVENT

END:VCALENDAR
