BEGIN:VCALENDAR
VERSION:2.0
PRODID:-//ChamberMaster//Event Calendar 2.0//EN
METHOD:PUBLISH
X-PUBLISHED-TTL:P3D
REFRESH-INTERVAL:P3D
CALSCALE:GREGORIAN
BEGIN:VEVENT
DTSTART:20140517T150000Z
DTEND:20140517T080000Z
X-MICROSOFT-CDO-ALLDAYEVENT:FALSE
SUMMARY:Motif No.1 Day 2014 - Photo Booth
DESCRIPTION:Motif 1 Photo Booth\, a new event for this years Motif 1 Day festivities. Next to Firehouse Trust in Dock Square from 11-4 on May 17th. A portion of the proceeds will go to Rockport Festivals to help fund future events.
X-ALT-DESC;FMTTYPE=text/html:Motif 1 Photo Booth\, a new event for this years Motif 1 Day festivities. Next to Firehouse Trust in Dock Square from 11-4 on May 17th. A portion of the proceeds will go to Rockport Festivals to help fund future events.
LOCATION:Dock square\, Rockport\, MA 01966 Next to the Firehouse Trust\, Dock Square\, Rockport MA 01966
UID:e.2981.1303
SEQUENCE:3
DTSTAMP:20260419T181631Z
URL:https://visit.rockportusa.com/events/details/motif-no-1-day-2014-photo-booth-1303
END:VEVENT

END:VCALENDAR
