BEGIN:VCALENDAR
VERSION:2.0
PRODID:-//ChamberMaster//Event Calendar 2.0//EN
METHOD:PUBLISH
X-PUBLISHED-TTL:P3D
REFRESH-INTERVAL:P3D
CALSCALE:GREGORIAN
BEGIN:VEVENT
DTSTART:20140117T175500Z
DTEND:20140117T175500Z
X-MICROSOFT-CDO-ALLDAYEVENT:FALSE
SUMMARY:Met Opera live in HD: The Merry Widow
DESCRIPTION:The great Renée Fleming stars as the beguiling femme fatale who captivates all Paris in Lehár's enchanting operetta\, seen in a new staging by Broadway virtuoso director and choreographer Susan Stroman (The Producers\, Oklahoma!\, Contact). Stroman and her design team of Julian Crouch (Satyagraha\, The Enchanted Island) and costume designer William Ivey Long (Cinderella\, Grey Gardens\, Hairspray) have created an art-nouveau setting that climaxes with singing and dancing grisettes at the legendary Maxim's. Nathan Gunn co-stars as Danilo and Kelli O'Hara is Valencienne. Andrew Davis conducts.\n\nApproximate HD runtime: 2:57
X-ALT-DESC;FMTTYPE=text/html:The great Renée Fleming stars as the beguiling femme fatale who captivates all Paris in Lehár's enchanting operetta\, seen in a new staging by Broadway virtuoso director and choreographer Susan Stroman (The Producers\, Oklahoma!\, Contact). Stroman and her design team of Julian Crouch (Satyagraha\, The Enchanted Island) and costume designer William Ivey Long (Cinderella\, Grey Gardens\, Hairspray) have created an art-nouveau setting that climaxes with singing and dancing grisettes at the legendary Maxim's. Nathan Gunn co-stars as Danilo and Kelli O'Hara is Valencienne. Andrew Davis conducts.\n\nApproximate HD runtime: 2:57\n
LOCATION:37 Main St\, Rockport\, MA 01966 http://www.rockportmusic.org/directions-and-parking/
UID:e.2981.1521
SEQUENCE:3
DTSTAMP:20260420T023738Z
URL:https://visit.rockportusa.com/events/details/met-opera-live-in-hd-the-merry-widow-01-17-2014-1521
END:VEVENT

END:VCALENDAR
