BEGIN:VCALENDAR
VERSION:2.0
PRODID:-//ChamberMaster//Event Calendar 2.0//EN
METHOD:PUBLISH
X-PUBLISHED-TTL:P3D
REFRESH-INTERVAL:P3D
CALSCALE:GREGORIAN
BEGIN:VEVENT
DTSTART:20131214T175500Z
DTEND:20131214T175500Z
X-MICROSOFT-CDO-ALLDAYEVENT:FALSE
SUMMARY:Met Opera Live in HD presents VERDI: Falstaff
DESCRIPTION:An undisputed master of Falstaff\, Music Director James Levine conducts Verdi's opera for the first time at the Met since 2005. Robert Carsen's production—the first new Met Falstaff since 1964—is set in the English countryside in the mid-20th century. Ambrogio Maestri (last season's Dulcamara in the Opening Night production of L'Elisir d'Amore) sings the title role of the brilliant and blustery Sir John Falstaff\, opposite a marvelous ensemble that includes Angela Meade\, Stephanie Blythe\, Lisette Oropesa\, and Franco Vassallo.\n\nMet Opera Subscription Series: $288\, $261\, $180\nIndividual Tickets: $32\, $29\, $20\nPre-Opera Lunch: $15
X-ALT-DESC;FMTTYPE=text/html:An undisputed master of Falstaff\, Music Director James Levine conducts Verdi's opera for the first time at the Met since 2005. Robert Carsen's production—the first new Met Falstaff since 1964—is set in the English countryside in the mid-20th century. Ambrogio Maestri (last season's Dulcamara in the Opening Night production of L'Elisir d'Amore) sings the title role of the brilliant and blustery Sir John Falstaff\, opposite a marvelous ensemble that includes Angela Meade\, Stephanie Blythe\, Lisette Oropesa\, and Franco Vassallo.\n\nMet Opera Subscription Series: $288\, $261\, $180\nIndividual Tickets: $32\, $29\, $20\nPre-Opera Lunch: $15\n\n
LOCATION:Shalin Liu Performance Center\, Rockport\, MA 01966 Travelling by Car: Rockport is 45 miles from downtown Boston. Drive north on Route 128 (through two rotaries) to the traffic light in Gloucester. At the traffic light\, turn left onto Route 127. Drive 4 miles to Rockport. Continue through “Five Corners” onto Route 127A (Broadway) toward the harbor. It’s a slight vere to the right. At the stop sign at Mt. Pleasant Street (lighthouse in median)\, turn left and then bear left onto Main Street. The Shalin Liu Performance Center is on the right at 37 Main Street. Travelling by Train: Rockport is accessible by commuter rail from Boston and other Northshore towns. The commuter rail originates from North Station on the Green line in Boston. The train station is ½ mile walk to the concert hall. Walking Directions from Rockport Train Station: Leave Rockport Commuter Rail Station and turn left onto Railroad Avenue. Turn right onto King Street for and then turn right onto Beach Street (Atlantic Ocean and Front Beach on other side of Beach Street). Follow Beach Street and the Shalin Liu Performance Center will be on your left after you’ve merged onto Main Street. The Congregational Church is across the street.
UID:e.2981.1066
SEQUENCE:3
DTSTAMP:20260420T041306Z
URL:https://visit.rockportusa.com/events/details/met-opera-live-in-hd-presents-verdi-falstaff-12-14-2013-1066
END:VEVENT

END:VCALENDAR
