BEGIN:VCALENDAR
VERSION:2.0
PRODID:-//ChamberMaster//Event Calendar 2.0//EN
METHOD:PUBLISH
X-PUBLISHED-TTL:P3D
REFRESH-INTERVAL:P3D
CALSCALE:GREGORIAN
BEGIN:VEVENT
DTSTART:20140802T000000Z
DTEND:20140802T000000Z
X-MICROSOFT-CDO-ALLDAYEVENT:FALSE
SUMMARY:Martin Sexton
DESCRIPTION:Owning one of the most powerful and dynamic voices in American popular music\, Martin Sexton straddles the worlds of folk\, soul\, country and rock and roll with ease. For the last 25 years\, his earnest songwriting\, quirky stylistic shape-shifting and seemingly boundless vocal range has created a legion of devoted fans across the country\, and the world.
X-ALT-DESC;FMTTYPE=text/html:Owning one of the most powerful and dynamic voices in American popular music\, Martin Sexton straddles the worlds of folk\, soul\, country and rock and roll with ease. For the last 25 years\, his earnest songwriting\, quirky stylistic shape-shifting and seemingly boundless vocal range has created a legion of devoted fans across the country\, and the world.
LOCATION:37 Main Street\, Rockport\, MA 01966 Shalin Liu Performance Center
UID:e.2981.1325
SEQUENCE:3
DTSTAMP:20260419T130417Z
URL:https://visit.rockportusa.com/events/details/martin-sexton-08-01-2014-1325
END:VEVENT

END:VCALENDAR
