BEGIN:VCALENDAR
VERSION:2.0
PRODID:-//ChamberMaster//Event Calendar 2.0//EN
METHOD:PUBLISH
X-PUBLISHED-TTL:P3D
REFRESH-INTERVAL:P3D
CALSCALE:GREGORIAN
BEGIN:VEVENT
DTSTART:20140821T130000Z
DTEND:20140821T130000Z
X-MICROSOFT-CDO-ALLDAYEVENT:FALSE
SUMMARY:Maritime Gloucester Online Auction
DESCRIPTION:You'll find unique experiences\, one-of-a-kind items\, gift certificates to local restaurants and businesses\, and much more! Your bids directly support Maritime Gloucester's mission and programs. Visit https://www.biddingforgood.com/auction/auctionhome.action?auctionId=221055420 to start your bidding. Thank you for your support!
X-ALT-DESC;FMTTYPE=text/html:You'll find unique experiences\, one-of-a-kind items\, gift certificates to local restaurants and businesses\, and much more! Your bids directly support Maritime Gloucester's mission and programs. Visit https://www.biddingforgood.com/auction/auctionhome.action?auctionId=221055420 to start your bidding. Thank you for your support!
LOCATION:23 Harbor Loop\, Gloucester\, MA 01930 Maritime Gloucester's Online Auction
UID:e.2981.1524
SEQUENCE:3
DTSTAMP:20260419T130541Z
URL:https://visit.rockportusa.com/events/details/maritime-gloucester-online-auction-08-21-2014-1524
END:VEVENT

END:VCALENDAR
