BEGIN:VCALENDAR
VERSION:2.0
PRODID:-//ChamberMaster//Event Calendar 2.0//EN
METHOD:PUBLISH
X-PUBLISHED-TTL:P3D
REFRESH-INTERVAL:P3D
CALSCALE:GREGORIAN
BEGIN:VEVENT
DTSTART:20140312T210000Z
DTEND:20140312T230000Z
X-MICROSOFT-CDO-ALLDAYEVENT:FALSE
SUMMARY:March Business After Hours
DESCRIPTION:Want to network and make new connections? Do you want to grow your business through referrals? Attend our Business After Hours to mix and mingle with members in a relaxed atmosphere and learn to master the art of networking!     Make new professional connections\n   Gain valuable leads and potential new customers\n   Find suppliers and service providers\n   Access agencies and entities to help your business\n   Meet people with purchasing power within their organizationsBusiness After Hours is the place for business professionals to come together to grow their network and their business by sharing contacts\, referrals and ideas.
X-ALT-DESC;FMTTYPE=text/html:<p></p><p>Want to network and make new connections? Do you want to grow your business through referrals? Attend our Business After Hours to mix and mingle with members in a relaxed atmosphere and learn to master the art of networking!&nbsp\; </p><p>&bull\;&nbsp\; Make new professional connections<br />&bull\;&nbsp\; Gain valuable leads and potential new customers<br />&bull\;&nbsp\; Find suppliers and service providers<br />&bull\;&nbsp\; Access agencies and entities to help your business<br />&bull\;&nbsp\; Meet people with purchasing power within their organizations</p><p>Business After Hours is the place for business professionals to come together to grow their network and their business by sharing contacts\, referrals and ideas. </p><p></p>
LOCATION:Eastern Point Day School 8 Farrington Avenue\, Gloucester\, MA 01930
UID:e.2981.1194
SEQUENCE:3
DTSTAMP:20260419T231237Z
URL:https://visit.rockportusa.com/events/details/march-business-after-hours-03-12-2014-1194
END:VEVENT

END:VCALENDAR
