BEGIN:VCALENDAR
VERSION:2.0
PRODID:-//ChamberMaster//Event Calendar 2.0//EN
METHOD:PUBLISH
X-PUBLISHED-TTL:P3D
REFRESH-INTERVAL:P3D
CALSCALE:GREGORIAN
BEGIN:VEVENT
DTSTART:20131202T220000Z
DTEND:20131208T030000Z
X-MICROSOFT-CDO-ALLDAYEVENT:FALSE
SUMMARY:Manchester Athletic Club Free Open House Week
DESCRIPTION:Join us for a week full of fitness and new beginnings! Get a head start on the holidays with a week of special events and no guest fees at the club! Call Membership at 978-526-8900 ext 2 for more information. Manchester Athletic Club is open Monday through Friday\, from 5:00 AM - 10:00 PM and Saturday and Sunday's from 6:00 AM - 8:00 PM. Check us out- we ROCK!
X-ALT-DESC;FMTTYPE=text/html:Join us for a week full of fitness and new beginnings! Get a head start on the holidays with a week of special events and no guest fees at the club! Call Membership at 978-526-8900 ext 2 for more information. Manchester Athletic Club is open Monday through Friday\, from 5:00 AM - 10:00 PM and Saturday and Sunday's from 6:00 AM - 8:00 PM. Check us out- we ROCK!
LOCATION:8 Atwater Ave. \, Manchester\, MA 01944 Manchester Athletic Club
UID:e.2981.1157
SEQUENCE:3
DTSTAMP:20260420T041256Z
URL:https://visit.rockportusa.com/events/details/manchester-athletic-club-free-open-house-week-12-02-2013-1157
END:VEVENT

END:VCALENDAR
