BEGIN:VCALENDAR
VERSION:2.0
PRODID:-//ChamberMaster//Event Calendar 2.0//EN
METHOD:PUBLISH
X-PUBLISHED-TTL:P3D
REFRESH-INTERVAL:P3D
CALSCALE:GREGORIAN
BEGIN:VEVENT
DTSTART:20140719T130000Z
DTEND:20140719T200000Z
X-MICROSOFT-CDO-ALLDAYEVENT:FALSE
SUMMARY:Magnolia Street Fair
DESCRIPTION:Artisans. Crafters\, Vendors\, and Fun for All!  For more information vist magnoliahistoricalsociety.com.  All proceeds will benefit the Magnolia Historical Society.
X-ALT-DESC;FMTTYPE=text/html:<p>Artisans. Crafters\, Vendors\, and Fun for All!&nbsp\; For more information vist <a href="http://www.magnoliahistoricalsociety.com">magnoliahistoricalsociety.com</a>.&nbsp\; </p><p></p><p>All proceeds will benefit the Magnolia Historical Society.</p>
LOCATION:Magnolia Lexington Avenue\, Gloucester \, MA 01930
UID:e.2981.1432
SEQUENCE:3
DTSTAMP:20260419T144235Z
URL:https://visit.rockportusa.com/events/details/magnolia-street-fair-07-19-2014-1432
END:VEVENT

END:VCALENDAR
