BEGIN:VCALENDAR
VERSION:2.0
PRODID:-//ChamberMaster//Event Calendar 2.0//EN
METHOD:PUBLISH
X-PUBLISHED-TTL:P3D
REFRESH-INTERVAL:P3D
CALSCALE:GREGORIAN
BEGIN:VEVENT
DTSTART:20140727T210000Z
DTEND:20140727T210000Z
X-MICROSOFT-CDO-ALLDAYEVENT:FALSE
SUMMARY:Loudon Wainwright III
DESCRIPTION:A singer-songwriter of immense depth and wit\, Loudon Wainwright III has been thrilling audiences with his sharp\, literate take on the folk tradition for over 40 years. From the ''next Dylan'' tag of the early 70's to Grammy-winning folk elder statesman\, Wainwright's singular talent has never dimmed.   Tickets: $46/$38/$28
X-ALT-DESC;FMTTYPE=text/html:A singer-songwriter of immense depth and wit\, Loudon Wainwright III has been thrilling audiences with his sharp\, literate take on the folk tradition for over 40 years. From the ''next Dylan'' tag of the early 70's to Grammy-winning folk elder statesman\, Wainwright's singular talent has never dimmed.   Tickets: $46/$38/$28
LOCATION:Shalin Liu Performance Center\, Rockport\, Ma 01966
UID:e.2981.1234
SEQUENCE:3
DTSTAMP:20260419T144014Z
URL:https://visit.rockportusa.com/events/details/loudon-wainwright-iii-07-27-2014-1234
END:VEVENT

END:VCALENDAR
