BEGIN:VCALENDAR
VERSION:2.0
PRODID:-//ChamberMaster//Event Calendar 2.0//EN
METHOD:PUBLISH
X-PUBLISHED-TTL:P3D
REFRESH-INTERVAL:P3D
CALSCALE:GREGORIAN
BEGIN:VEVENT
DTSTART:20140802T000000Z
DTEND:20140802T000000Z
X-MICROSOFT-CDO-ALLDAYEVENT:FALSE
SUMMARY:Liz Longley
DESCRIPTION:A young singer-songwriter of startling maturity\, Philadelphia native Liz Longley has catapulted into the folk-pop consciousness. The recent Berklee School of Music grad possesses both a honeyed voice that immediately demands attention\, and a melodic sensibility that just can't be taught.
X-ALT-DESC;FMTTYPE=text/html:A young singer-songwriter of startling maturity\, Philadelphia native Liz Longley has catapulted into the folk-pop consciousness. The recent Berklee School of Music grad possesses both a honeyed voice that immediately demands attention\, and a melodic sensibility that just can't be taught.
LOCATION:37 Main Street\, Rockport\, MA 01966 Shalin Liu Performance Center
UID:e.2981.1320
SEQUENCE:3
DTSTAMP:20260419T130417Z
URL:https://visit.rockportusa.com/events/details/liz-longley-08-01-2014-1320
END:VEVENT

END:VCALENDAR
