BEGIN:VCALENDAR
VERSION:2.0
PRODID:-//ChamberMaster//Event Calendar 2.0//EN
METHOD:PUBLISH
X-PUBLISHED-TTL:P3D
REFRESH-INTERVAL:P3D
CALSCALE:GREGORIAN
BEGIN:VEVENT
DTSTART:20250608T000000Z
DTEND:20250608T020000Z
X-MICROSOFT-CDO-ALLDAYEVENT:FALSE
SUMMARY:Liz Longley
DESCRIPTION:Back by popular demand\, singer-songwriter Liz Longley returns to Rockport with her stop-you-in-your-tracks voice in support of her latest EP It's Me Again. Based out of Nashville\, Longley's deeply emotional music has earned accolades from some of the most prestigious songwriting competitions in the country\, including the BMI John Lennon Songwriting Scholarship Competition. She is joined by folk singer/songwriter Sam Robbins.
X-ALT-DESC;FMTTYPE=text/html:<p><span style="color:rgb(0\, 0\, 0)\; font-family:open sans\,arial\,helvetica\,sans-serif\; font-size:16px">Back by popular demand\, singer-songwriter Liz Longley returns to Rockport with her stop-you-in-your-tracks voice in support of her latest EP&nbsp\;</span><em>It&rsquo\;s Me Again</em><span style="color:rgb(0\, 0\, 0)\; font-family:open sans\,arial\,helvetica\,sans-serif\; font-size:16px">. Based out of Nashville\, Longley&rsquo\;s deeply emotional music has earned accolades from some of the most prestigious songwriting competitions in the country\, including the BMI John Lennon Songwriting Scholarship Competition. She is joined by folk singer/songwriter Sam Robbins.</span></p>\n
LOCATION:37 Main St\, Rockport\, MA 01966
UID:e.2981.36715
SEQUENCE:3
DTSTAMP:20260426T040432Z
URL:https://visit.rockportusa.com/events/details/liz-longley-06-07-2025-36715
END:VEVENT

END:VCALENDAR
