BEGIN:VCALENDAR
VERSION:2.0
PRODID:-//ChamberMaster//Event Calendar 2.0//EN
METHOD:PUBLISH
X-PUBLISHED-TTL:P3D
REFRESH-INTERVAL:P3D
CALSCALE:GREGORIAN
BEGIN:VEVENT
DTSTART:20140326T130000Z
DTEND:20140326T200000Z
X-MICROSOFT-CDO-ALLDAYEVENT:FALSE
SUMMARY:Life Line Screenings
DESCRIPTION:Life Line Screening will be performing a day of preventive health screenings at Tyrian-Ashler-Acacia Lodge on Wednesday\, March 26\, 2014.  This collaboration helps bring important health tests to our community at an affordable price.   The tests look for signs of disease that can lead to stroke\, heart attack or bone fracture.\n \nLife Line Screening scans for potential health problems related to: blocked arteries\, which is a leading cause of stroke\; abdominal aortic aneurysms\, which can lead to a ruptured aorta\, the 13th leading cause of death in America\; hardening of the arteries in the legs\, which is a strong predictor of heart disease\; and a bone density screening\, for men and women\, used to assess the risk of osteoporosis.\n \nThe cost for a Wellness Package is $149.00. You must pre-register. Appointments are limited\, so please sign up now by calling \n1-800-690-0323 and receive a $10 discount off the package or visit Life Line Screening's website at www.lifelinescreening.com/community-partners.
X-ALT-DESC;FMTTYPE=text/html:Life Line Screening will be performing a day of preventive health screenings at Tyrian-Ashler-Acacia Lodge on Wednesday\, March 26\, 2014.  This collaboration helps bring important health tests to our community at an affordable price.   The tests look for signs of disease that can lead to stroke\, heart attack or bone fracture.\n \nLife Line Screening scans for potential health problems related to: blocked arteries\, which is a leading cause of stroke\; abdominal aortic aneurysms\, which can lead to a ruptured aorta\, the 13th leading cause of death in America\; hardening of the arteries in the legs\, which is a strong predictor of heart disease\; and a bone density screening\, for men and women\, used to assess the risk of osteoporosis.\n \nThe cost for a Wellness Package is $149.00. You must pre-register. Appointments are limited\, so please sign up now by calling \n1-800-690-0323 and receive a $10 discount off the package or visit Life Line Screening's website at www.lifelinescreening.com/community-partners.\n
LOCATION:Tyrian Ashler Acacia Lodge 27 Eastern Avenue\, Gloucester\, MA 01930
UID:e.2981.1221
SEQUENCE:3
DTSTAMP:20260419T213937Z
URL:https://visit.rockportusa.com/events/details/life-line-screenings-03-26-2014-1221
END:VEVENT

END:VCALENDAR
