BEGIN:VCALENDAR
VERSION:2.0
PRODID:-//ChamberMaster//Event Calendar 2.0//EN
METHOD:PUBLISH
X-PUBLISHED-TTL:P3D
REFRESH-INTERVAL:P3D
CALSCALE:GREGORIAN
BEGIN:VEVENT
DTSTART:20140521T210000Z
DTEND:20140521T230000Z
X-MICROSOFT-CDO-ALLDAYEVENT:FALSE
SUMMARY:Ladies Night Out Fashion Show
DESCRIPTION:A Benefit for the Carolyn O'Connor Scholarship Fund!Come for a fun night out with the Ladies\, and check out the latest in Fashion\, Jewelry and Beauty Products from Local Businesses.  See how to 'Dress for your Proffession' and then for Fun!Appetizers and a cash bar. Networking\, mingling and fun in a Beautiful setting!
X-ALT-DESC;FMTTYPE=text/html:<p>A Benefit for the Carolyn O'Connor Scholarship Fund!</p><p>Come for a fun night out with the Ladies\, and check out the latest in Fashion\, Jewelry and Beauty Products from Local Businesses.&nbsp\; See how to 'Dress for your Proffession' and then for Fun!</p><p>Appetizers and a cash bar. Networking\, mingling and fun in a Beautiful setting!</p>
LOCATION:Castle Manor Inn 141 Essex Avenue\, Gloucester\, MA 01930
UID:e.2981.1307
SEQUENCE:3
DTSTAMP:20260419T182342Z
URL:https://visit.rockportusa.com/events/details/ladies-night-out-fashion-show-05-21-2014-1307
END:VEVENT

END:VCALENDAR
